BEGIN:VCALENDAR
VERSION:2.0
PRODID:-//Repaire des joueurs - ECPv6.15.20//NONSGML v1.0//EN
CALSCALE:GREGORIAN
METHOD:PUBLISH
X-WR-CALNAME:Repaire des joueurs
X-ORIGINAL-URL:https://repairedesjoueurs.fr
X-WR-CALDESC:Évènements pour Repaire des joueurs
REFRESH-INTERVAL;VALUE=DURATION:PT1H
X-Robots-Tag:noindex
X-PUBLISHED-TTL:PT1H
BEGIN:VTIMEZONE
TZID:Europe/Paris
BEGIN:DAYLIGHT
TZOFFSETFROM:+0100
TZOFFSETTO:+0200
TZNAME:CEST
DTSTART:20230326T010000
END:DAYLIGHT
BEGIN:STANDARD
TZOFFSETFROM:+0200
TZOFFSETTO:+0100
TZNAME:CET
DTSTART:20231029T010000
END:STANDARD
BEGIN:DAYLIGHT
TZOFFSETFROM:+0100
TZOFFSETTO:+0200
TZNAME:CEST
DTSTART:20240331T010000
END:DAYLIGHT
BEGIN:STANDARD
TZOFFSETFROM:+0200
TZOFFSETTO:+0100
TZNAME:CET
DTSTART:20241027T010000
END:STANDARD
BEGIN:DAYLIGHT
TZOFFSETFROM:+0100
TZOFFSETTO:+0200
TZNAME:CEST
DTSTART:20250330T010000
END:DAYLIGHT
BEGIN:STANDARD
TZOFFSETFROM:+0200
TZOFFSETTO:+0100
TZNAME:CET
DTSTART:20251026T010000
END:STANDARD
END:VTIMEZONE
BEGIN:VEVENT
DTSTART;TZID=Europe/Paris:20240305T183000
DTEND;TZID=Europe/Paris:20240305T203000
DTSTAMP:20260421T222726
CREATED:20231203T235650Z
LAST-MODIFIED:20240220T212907Z
UID:976-1709663400-1709670600@repairedesjoueurs.fr
SUMMARY:Polynesia
DESCRIPTION:Dans ce jeu de plateau\, vous devez sauver les membres de votre tribu de la fureur du volcan en les emmenant vers les îles qui leur rapporteront le plus de points. Dans le même temps\, vous devez vous efforcer d’atteindre les objectifs donnés par les cartes Courant\, qui varient d’une partie à l’autre. Pour l’emporter\, vous devrez aussi collecter les ressources (poissons et coquillages) qui vous permettront d’explorer de nouvelles routes maritimes\, utiliser les routes de vos adversaires\, et naviguer d’une île à l’autre. \n\n\n\n\nA partir de 14 ans\n\n\n\n1h à 1h30\n\n\n\n2 à 4 joueurs\n\n\n\n\n \n\n\nIl n'y a plus de places disponibles pour ce jeu.
URL:https://repairedesjoueurs.fr/jeux/polynesia/
LOCATION:Salle de l’Oasis\, 95 rue du Docteur Bailly\, Beaurepaire\, 38270\, France
CATEGORIES:Initié
END:VEVENT
BEGIN:VEVENT
DTSTART;TZID=Europe/Paris:20240305T183000
DTEND;TZID=Europe/Paris:20240305T203000
DTSTAMP:20260421T222726
CREATED:20240219T174919Z
LAST-MODIFIED:20240220T212951Z
UID:1153-1709663400-1709670600@repairedesjoueurs.fr
SUMMARY:Les Aventuriers du Rail
DESCRIPTION:Dans ce jeu\, replongez dans l’âge d’or du chemin de fer. Lancez-vous à la conquête du rail et tentez de prendre le contrôle du réseau ferroviaire américain en reliant un maximum de villes entre elles. Pour triomphez de vos adversaires\, vous devrez savoir utiliser vos cartes au bon moment et conserver des objectifs à votre portée. Prenez la main sur les voies de chemin de fer et bloquez les autres participants dans leur désir de conquête. \n\n\n\n\nA partir de 12 ans\n\n\n\n45min à 1h\n\n\n\nJusqu’à 5 joueurs\n\n\n\nIl n'y a plus de places disponibles pour ce jeu.
URL:https://repairedesjoueurs.fr/jeux/les-aventuriers-du-rail/
LOCATION:Salle de l’Oasis\, 95 rue du Docteur Bailly\, Beaurepaire\, 38270\, France
CATEGORIES:Amateur
END:VEVENT
BEGIN:VEVENT
DTSTART;TZID=Europe/Paris:20240305T183000
DTEND;TZID=Europe/Paris:20240305T203000
DTSTAMP:20260421T222726
CREATED:20240219T175601Z
LAST-MODIFIED:20240220T212747Z
UID:1159-1709663400-1709670600@repairedesjoueurs.fr
SUMMARY:L'Insondable
DESCRIPTION:L’Insondable est un jeu d’alliances secrètes et d’intrigue. Les joueurs y incarnent des humains luttant pour la survie du navire ou des traîtres oeuvrant pour l’empêcher d’arriver à bon port. \n\n\n\n\nA partir de 14 ans\n\n\n\n2 à 3h\n\n\n\n3 à 6 joueurs\n\n\n\nIl n'y a plus de places disponibles pour ce jeu.
URL:https://repairedesjoueurs.fr/jeux/linsondable/
LOCATION:Salle de l’Oasis\, 95 rue du Docteur Bailly\, Beaurepaire\, 38270\, France
CATEGORIES:Expert
END:VEVENT
BEGIN:VEVENT
DTSTART;TZID=Europe/Paris:20240305T183000
DTEND;TZID=Europe/Paris:20240305T203000
DTSTAMP:20260421T222726
CREATED:20240219T180354Z
LAST-MODIFIED:20240220T212727Z
UID:1166-1709663400-1709670600@repairedesjoueurs.fr
SUMMARY:MicroMacro : Crime City
DESCRIPTION:Dans MicroMacro\, la police de Crime City a besoin de vous pour faire face à une vague de crimes hors normes. Dans ce jeu d’enquête coopératif\, utilisez toutes vos compétences d’observation et de déduction pour résoudre ces affaires. \n\n\n\n\nA partir 12 ans\n\n\n\n30min à 1h\n\n\n\nJusqu’à 8 joueurs\n\n\n\nIl n'y a plus de places disponibles pour ce jeu.
URL:https://repairedesjoueurs.fr/jeux/micromacro-crime-city/
LOCATION:Salle de l’Oasis\, 95 rue du Docteur Bailly\, Beaurepaire\, 38270\, France
CATEGORIES:Ambiance
END:VEVENT
BEGIN:VEVENT
DTSTART;TZID=Europe/Paris:20240312T183000
DTEND;TZID=Europe/Paris:20240312T203000
DTSTAMP:20260421T222726
CREATED:20240311T131226Z
LAST-MODIFIED:20240311T131648Z
UID:1366-1710268200-1710275400@repairedesjoueurs.fr
SUMMARY:La Vallée des Marchands
DESCRIPTION:La Vallée des Marchands est un jeu de deckbuilding dans lequel vous Incarnez un marchand dont le but est d’entrer dans la Guilde des Commerçants Extraordinaires. Construisez votre étal\, attirez les clients et distinguez vous des autres marchands. \n\n\n\n\nA partir de 14 ans\n\n\n\n2 à 4 joueurs\n\n\n\n30 minutes à 1h\n\n\n\nIl n'y a plus de places disponibles pour ce jeu.
URL:https://repairedesjoueurs.fr/jeux/la-vallee-des-marchands/
LOCATION:Salle de l’Oasis\, 95 rue du Docteur Bailly\, Beaurepaire\, 38270\, France
CATEGORIES:Initié
END:VEVENT
BEGIN:VEVENT
DTSTART;TZID=Europe/Paris:20240319T183000
DTEND;TZID=Europe/Paris:20240319T203000
DTSTAMP:20260421T222726
CREATED:20231220T185403Z
LAST-MODIFIED:20240316T091441Z
UID:1212-1710873000-1710880200@repairedesjoueurs.fr
SUMMARY:Petits meurtres et Faits divers
DESCRIPTION:3 PLACES DISPONIBLES – Jeu à rôles cachés – Petits meurtres et faits divers est un jeu dans lequel vous devrez vous disculper d’accusations parfois ignominieuses et souvent loufoques. Tour à tour\, vous aurez le sentiment d’être ce brillant inspecteur\, ce greffier glacial et incorruptible ou un de ces louches\, étranges\, mystérieux et excentriques suspects qui tentent tous de mystifier l’inspecteur à force d’abondants baratins et d’alibis alambiqués ! \n\n\n\n\nA partir de 14 ans\n\n\n\n30 minutes à 1h\n\n\n\nMinimum 4 joueurs ! Max 7 joueurs\n\n\n\nIl n'y a plus de places disponibles pour ce jeu.
URL:https://repairedesjoueurs.fr/jeux/petits-meurtres-et-faits-divers/
LOCATION:Salle de l’Oasis\, 95 rue du Docteur Bailly\, Beaurepaire\, 38270\, France
CATEGORIES:Ambiance
END:VEVENT
BEGIN:VEVENT
DTSTART;TZID=Europe/Paris:20240319T183000
DTEND;TZID=Europe/Paris:20240319T203000
DTSTAMP:20260421T222726
CREATED:20240120T092414Z
LAST-MODIFIED:20240315T162416Z
UID:1107-1710873000-1710880200@repairedesjoueurs.fr
SUMMARY:7 Wonders
DESCRIPTION:2 PLACES DISPONIBLES – Dans 7 Wonders\, vous êtes à la tête de l’une des sept grandes cités du monde antique. Votre but est de faire prospérer votre ville pour la rendre plus influente que celles de vos adversaires. Le futur des cités légendaires comme Babylone\, Éphèse ou encore Rhodes dépend de vos talents de gestionnaire. Pour inscrire votre cité dans l’Histoire\, vous devrez agir dans différents secteurs de développement.  \n\n\n\n\n à partir de 12 ans\n\n\n\n 30mn à 1h\n\n\n\n 3 à 7 joueur(s)\n\n\n\nIl n'y a plus de places disponibles pour ce jeu.
URL:https://repairedesjoueurs.fr/jeux/7-wonders/
LOCATION:Salle de l’Oasis\, 95 rue du Docteur Bailly\, Beaurepaire\, 38270\, France
CATEGORIES:Initié
END:VEVENT
BEGIN:VEVENT
DTSTART;TZID=Europe/Paris:20240319T183000
DTEND;TZID=Europe/Paris:20240319T203000
DTSTAMP:20260421T222726
CREATED:20240219T183200Z
LAST-MODIFIED:20240316T091602Z
UID:1195-1710873000-1710880200@repairedesjoueurs.fr
SUMMARY:The Crew
DESCRIPTION:4 PLACES DISPONIBLES – The Crew est un jeu de plis coopératif dans lequel les joueurs incarnent les membres d’un équipage spatial en voyage vers une mystérieuse planète. Le jeu se compose de 50 missions à accomplir avant de pouvoir atteindre la destination finale. \n\n\n\n\nA partir de 12 ans\n\n\n\n30 minutes\n\n\n\n2 à 5 joueurs\n\n\n\nIl n'y a plus de places disponibles pour ce jeu.
URL:https://repairedesjoueurs.fr/jeux/the-crew/
LOCATION:Salle de l’Oasis\, 95 rue du Docteur Bailly\, Beaurepaire\, 38270\, France
CATEGORIES:Amateur
END:VEVENT
BEGIN:VEVENT
DTSTART;TZID=Europe/Paris:20240326T183000
DTEND;TZID=Europe/Paris:20240326T203000
DTSTAMP:20260421T222726
CREATED:20240219T194144Z
LAST-MODIFIED:20240308T183935Z
UID:1228-1711477800-1711485000@repairedesjoueurs.fr
SUMMARY:Paranormal Detectives
DESCRIPTION:Paranormal Detectives est un jeu de déduction compétitif où un joueur prend le rôle d’un fantôme et les autres jouent les détectives en essayant d’être les premiers à découvrir qui est la victime ainsi que comment\, où et pourquoi il est mort. \n\n\n\n\nA partir de 12 ans\n\n\n\n30 minutes à 1h\n\n\n\n2 à 6 joueurs\n\n\n\n\n \n\n\nIl n'y a plus de places disponibles pour ce jeu.
URL:https://repairedesjoueurs.fr/jeux/paranormal-detectives/
LOCATION:Salle de l’Oasis\, 95 rue du Docteur Bailly\, Beaurepaire\, 38270\, France
CATEGORIES:Amateur
END:VEVENT
BEGIN:VEVENT
DTSTART;TZID=Europe/Paris:20240326T183000
DTEND;TZID=Europe/Paris:20240326T203000
DTSTAMP:20260421T222726
CREATED:20240219T195845Z
LAST-MODIFIED:20240308T183935Z
UID:1233-1711477800-1711485000@repairedesjoueurs.fr
SUMMARY:Jeux d'ambiance : Coàtl\, Unstable Unicorns & Skip-Bo
DESCRIPTION:Cóatl\, le jeu de cartes est un jeu familial dans lequel vous devrez peindre le plus beau serpent à plumes du temple !  \n\n\n\nDans Unstable Unicorns vous devrez proteger votre écurie de Licornes des attaques de vos adversaires et vous vengez avec votre armée de licornes et leurs pouvoirs magiques ! \n\n\n\nSkip-Bo est un jeu de cartes familial\, conçu par les créateurs d’UNO\, dans lequel les joueurs doivent tenter de défausser toutes leurs cartes en créant des piles de séries de cartes. \n\n\n\n\nA partir de 12 ans\n\n\n\nJusqu’à 6 joueurs\n\n\n\nParties de 30min\n\n\n\nIl n'y a plus de places disponibles pour ce jeu.
URL:https://repairedesjoueurs.fr/jeux/jeux-dambiance-coatl-unstable-unicorns-skip-bo/
LOCATION:Salle de l’Oasis\, 95 rue du Docteur Bailly\, Beaurepaire\, 38270\, France
CATEGORIES:Ambiance
END:VEVENT
END:VCALENDAR