BEGIN:VCALENDAR
VERSION:2.0
PRODID:-//Repaire des joueurs - ECPv6.15.20//NONSGML v1.0//EN
CALSCALE:GREGORIAN
METHOD:PUBLISH
X-ORIGINAL-URL:https://repairedesjoueurs.fr
X-WR-CALDESC:Évènements pour Repaire des joueurs
REFRESH-INTERVAL;VALUE=DURATION:PT1H
X-Robots-Tag:noindex
X-PUBLISHED-TTL:PT1H
BEGIN:VTIMEZONE
TZID:Europe/Paris
BEGIN:DAYLIGHT
TZOFFSETFROM:+0100
TZOFFSETTO:+0200
TZNAME:CEST
DTSTART:20230326T010000
END:DAYLIGHT
BEGIN:STANDARD
TZOFFSETFROM:+0200
TZOFFSETTO:+0100
TZNAME:CET
DTSTART:20231029T010000
END:STANDARD
BEGIN:DAYLIGHT
TZOFFSETFROM:+0100
TZOFFSETTO:+0200
TZNAME:CEST
DTSTART:20240331T010000
END:DAYLIGHT
BEGIN:STANDARD
TZOFFSETFROM:+0200
TZOFFSETTO:+0100
TZNAME:CET
DTSTART:20241027T010000
END:STANDARD
BEGIN:DAYLIGHT
TZOFFSETFROM:+0100
TZOFFSETTO:+0200
TZNAME:CEST
DTSTART:20250330T010000
END:DAYLIGHT
BEGIN:STANDARD
TZOFFSETFROM:+0200
TZOFFSETTO:+0100
TZNAME:CET
DTSTART:20251026T010000
END:STANDARD
END:VTIMEZONE
BEGIN:VEVENT
DTSTART;TZID=Europe/Paris:20240402T183000
DTEND;TZID=Europe/Paris:20240402T203000
DTSTAMP:20260421T205513
CREATED:20240219T210506Z
LAST-MODIFIED:20240315T183549Z
UID:1240-1712082600-1712089800@repairedesjoueurs.fr
SUMMARY:Khôra
DESCRIPTION:Khôra est un jeu de développement et de stratégie particulièrement équilibré\, qui vous invite à prendre les bonnes décisions pour faire valoir les atouts de votre Cité ! Dans la Grèce antique\, les cités-États rivalisent de richesse et de puissance. À vous de mener votre cité à la gloire en exploitant ses atouts ! Politique\, économie\, arts militaires et culture : prenez les bonnes décisions et faites rayonner le nom de votre khôra sur l’ensemble du monde grec ! \n\n\n\n\nA partir de 16 ans\n\n\n\n1h à 2h\n\n\n\n2 à 4 joueurs\n\n\n\nIl n'y a plus de places disponibles pour ce jeu.
URL:https://repairedesjoueurs.fr/jeux/khora/
LOCATION:Salle de l’Oasis\, 95 rue du Docteur Bailly\, Beaurepaire\, 38270\, France
CATEGORIES:Expert
END:VEVENT
BEGIN:VEVENT
DTSTART;TZID=Europe/Paris:20240402T183000
DTEND;TZID=Europe/Paris:20240402T203000
DTSTAMP:20260421T205513
CREATED:20240219T214945Z
LAST-MODIFIED:20240401T173026Z
UID:1254-1712082600-1712089800@repairedesjoueurs.fr
SUMMARY:Unlock!
DESCRIPTION:Avec le jeu Unlock !\, faites entrer l’univers des escapes rooms chez vous. Coopérez avec vos partenaires pour arriver à bout des énigmes ! Les escapes rooms sont des jeux d’énigmes grandeur nature où vous devez vous échapper d’un lieu dans un temps imparti. Unlock! vous fait vivre ces expériences chez vous\, autour d’une table. Après avoir pris connaissance du contexte du scénario\, vous commencez votre aventure dans une pièce (une carte de lieu qui indique divers numéros). Fouillez-la pour trouver des objets ! Attention : certains peuvent être cachés ! Des énigmes visuelles ou audio ralentissent votre progression. À vous de coopérer avec vos partenaires pour avancer et terminer dans les temps. \n\n\n\n\nNécessite l’installation d’une application !\n\n\n\nA partir de 12 ans\n\n\n\nEntre 3 et  6 joueurs par énigme\n\n\n\n45 à 75 minutes\n\n\n\nIl n'y a plus de places disponibles pour ce jeu.
URL:https://repairedesjoueurs.fr/jeux/unlock/
LOCATION:Salle de l’Oasis\, 95 rue du Docteur Bailly\, Beaurepaire\, 38270\, France
CATEGORIES:Ambiance
END:VEVENT
BEGIN:VEVENT
DTSTART;TZID=Europe/Paris:20240409T183000
DTEND;TZID=Europe/Paris:20240409T203000
DTSTAMP:20260421T205513
CREATED:20240219T234752Z
LAST-MODIFIED:20240322T164522Z
UID:1275-1712687400-1712694600@repairedesjoueurs.fr
SUMMARY:Libertalia  : Les Vents de Galecrest
DESCRIPTION:Dans le monde de Galecrest\, les pirates du ciel naviguent sur les vents à la recherche d’aventures\, de trésors et de gloire. En tant qu’amiral\, vous commandez un équipage composé de matelots d’horizons différents… mais il en va de même pour vos adversaires qui naviguent sur d’autres bateaux de la flotte des pirates. \n\n\n\nAu début de chaque Voyage\, les joueurs obtiennent un set identique de 6 cartes Personnage. Chaque Jour pendant le Voyage\, les joueurs choisissent\, en même temps\, 1 Personnage à jouer de leur main.  \n\n\n\n\nA partir de 14 ans\n\n\n\nde 1 à 6 joueurs\n\n\n\n45 minutes à 1h\n\n\n\nIl n'y a plus de places disponibles pour ce jeu.
URL:https://repairedesjoueurs.fr/jeux/libertalia-les-vents-de-galecrest/
LOCATION:Salle de l’Oasis\, 95 rue du Docteur Bailly\, Beaurepaire\, 38270\, France
CATEGORIES:Initié
END:VEVENT
BEGIN:VEVENT
DTSTART;TZID=Europe/Paris:20240416T183000
DTEND;TZID=Europe/Paris:20240416T203000
DTSTAMP:20260421T205513
CREATED:20240409T215109Z
LAST-MODIFIED:20240409T215110Z
UID:1293-1713292200-1713299400@repairedesjoueurs.fr
SUMMARY:Takenoko
DESCRIPTION:Takenoko est un jeu pour toute la famille. Vous êtes un jardinier japonais du Moyen-Âge en charge de l’aménagement d’une bambouseraie. Votre but : prendre soin du nouveau locataire des jardins de l’Empereur : un panda. Pour remplir pleinement votre mission et recueillir les faveurs de l’empereur\, vous devrez cultiver des parcelles de terrain\, les irriguer et y faire pousser du bambou. Chaque joueur aura le choix entre ces différentes actions tout en respectant les volontés de l’empereur\, symbolisés par les cartes objectifs. \n\n\n\n\nA partir de 12 ans\n\n\n\n2 à 4 joueurs\n\n\n\n30 minutes à 1h\n\n\n\nIl n'y a plus de places disponibles pour ce jeu.
URL:https://repairedesjoueurs.fr/jeux/takenoko/
LOCATION:Salle de l’Oasis\, 95 rue du Docteur Bailly\, Beaurepaire\, 38270\, France
CATEGORIES:Amateur
END:VEVENT
BEGIN:VEVENT
DTSTART;TZID=Europe/Paris:20240416T183000
DTEND;TZID=Europe/Paris:20240416T203000
DTSTAMP:20260421T205513
CREATED:20240412T195735Z
LAST-MODIFIED:20240412T200811Z
UID:1425-1713292200-1713299400@repairedesjoueurs.fr
SUMMARY:Troyes
DESCRIPTION:Troyes est un jeu de stratégie dans lequel vous incarnez une riche famille champenoise usant de son influence pour recruter et diriger des habitants dans trois domaines d’activité: le militaire\, le religieux et le civil. Chaque domaine offre ses avantages propres dont vous pourrez tirer parti. Ainsi\, les militaires permettent de lutter avec plus d’efficacité contre les attaques extérieures. Les religieux mettent tout en œuvre pour achever la construction de la cathédrale et apportent leurs savoirs aux civils et aux militaires.  \n\n\n\n\nA partir de 16 ans\n\n\n\n60 à 90 minutes\n\n\n\nIl n'y a plus de places disponibles pour ce jeu.
URL:https://repairedesjoueurs.fr/jeux/troyes/
LOCATION:Salle de l’Oasis\, 95 rue du Docteur Bailly\, Beaurepaire\, 38270\, France
CATEGORIES:Expert
END:VEVENT
BEGIN:VEVENT
DTSTART;TZID=Europe/Paris:20240422T183000
DTEND;TZID=Europe/Paris:20240422T203000
DTSTAMP:20260421T205513
CREATED:20231022T171529Z
LAST-MODIFIED:20240414T193031Z
UID:518-1713810600-1713817800@repairedesjoueurs.fr
SUMMARY:Bad Company
DESCRIPTION:Chaque joueur dispose d’un plateau de jeu avec 11 membres de gang. Vous pouvez les améliorer en y plaçant des cartes qui se chevauchent. Ainsi\, l’apparence visuelle des membres de votre gang change au fur et à mesure qu’ils acquièrent des capacités supplémentaires. \n\n\n\n\nà partir de 12 ans\n\n\n\n30 minutes à 1h\n\n\n\n2 à 6 joueurs\n\n\n\nIl n'y a plus de places disponibles pour ce jeu.
URL:https://repairedesjoueurs.fr/jeux/bad-company/
LOCATION:Salle de l’Oasis\, 95 rue du Docteur Bailly\, Beaurepaire\, 38270\, France
CATEGORIES:Amateur
END:VEVENT
BEGIN:VEVENT
DTSTART;TZID=Europe/Paris:20240422T183000
DTEND;TZID=Europe/Paris:20240422T203000
DTSTAMP:20260421T205513
CREATED:20231127T111956Z
LAST-MODIFIED:20240412T222109Z
UID:853-1713810600-1713817800@repairedesjoueurs.fr
SUMMARY:Lewis & Clark
DESCRIPTION:Lewis & Clark est un jeu où les joueurs plongent dans l’Histoire des États-Unis. Chaque joueur conduit sa propre expédition à travers le continent. Son équipe sera complétée par les Indiens et les trappeurs rencontrés au long du voyage.Les joueurs conduisent une expédition à travers le continent Nord-Américain. Votre but ? Atteindre la côte Pacifique le premier en traversant les États-Unis. Lewis & Clark est donc un jeu de course. \n\n\n\n\nA partir de 16 ans\n\n\n\n2 à 4 joueurs\n\n\n\n60 à 120 min\n\n\n\n\n \n\n\nIl n'y a plus de places disponibles pour ce jeu.
URL:https://repairedesjoueurs.fr/jeux/lewis-clark/
LOCATION:Salle de l’Oasis\, 95 rue du Docteur Bailly\, Beaurepaire\, 38270\, France
CATEGORIES:Expert
END:VEVENT
BEGIN:VEVENT
DTSTART;TZID=Europe/Paris:20240430T183000
DTEND;TZID=Europe/Paris:20240430T203000
DTSTAMP:20260421T205513
CREATED:20240409T215149Z
LAST-MODIFIED:20240409T215150Z
UID:1309-1714501800-1714509000@repairedesjoueurs.fr
SUMMARY:Captain Sonar
DESCRIPTION:Montez à bord d’un sous-marin de nouvelle génération et prenez vos responsabilités. Deux équipes s’affrontent dans une guerre sous-marine sans merci\, au travers de 4 postes distincts. Chaque poste est important. Les maître-mots seront communication et organisation\, car un Capitaine n’est rien sans son Second\, son Détecteur ou même son Mécano ! \n\n\n\n\nA partir de 14 ans\n\n\n\nJusqu’à 8 joueurs\n\n\n\n45 à 60 minutes\n\n\n\nIl n'y a plus de places disponibles pour ce jeu.
URL:https://repairedesjoueurs.fr/jeux/captain-sonar/
LOCATION:Salle de l’Oasis\, 95 rue du Docteur Bailly\, Beaurepaire\, 38270\, France
CATEGORIES:Initié
END:VEVENT
BEGIN:VEVENT
DTSTART;TZID=Europe/Paris:20240430T183000
DTEND;TZID=Europe/Paris:20240430T203000
DTSTAMP:20260421T205513
CREATED:20240410T143947Z
LAST-MODIFIED:20240428T093833Z
UID:478-1714501800-1714509000@repairedesjoueurs.fr
SUMMARY:Paper Tales
DESCRIPTION:Paper Tales est un jeu de cartes où tous les joueurs agissent en simultané pour une expérience condensée\, tendue et dynamique. Son système original de vieillissement des Unités et sa gestion rigoureuse de l’espace apportent une grande profondeur et une importante courbe d’apprentissage. \n\n\n\nMettez en place les meilleures combinaisons de cartes\, mais prenez garde à ne pas laisser à vos adversaires les Unités dont ils ont besoin. Anticipez le vieillissement de vos troupes et composez avec l’inexorable écoulement du temps…  \n\n\n\n\nA partir de 14 ans\n\n\n\n45min à 1 h\n\n\n\n2 à 7 joueurs\n\n\n\nIl n'y a plus de places disponibles pour ce jeu.
URL:https://repairedesjoueurs.fr/jeux/paper-tales-2/
LOCATION:Salle de l’Oasis\, 95 rue du Docteur Bailly\, Beaurepaire\, 38270\, France
CATEGORIES:Initié
END:VEVENT
END:VCALENDAR