BEGIN:VCALENDAR
VERSION:2.0
PRODID:-//Repaire des joueurs - ECPv6.15.20//NONSGML v1.0//EN
CALSCALE:GREGORIAN
METHOD:PUBLISH
X-ORIGINAL-URL:https://repairedesjoueurs.fr
X-WR-CALDESC:Évènements pour Repaire des joueurs
REFRESH-INTERVAL;VALUE=DURATION:PT1H
X-Robots-Tag:noindex
X-PUBLISHED-TTL:PT1H
BEGIN:VTIMEZONE
TZID:Europe/Paris
BEGIN:DAYLIGHT
TZOFFSETFROM:+0100
TZOFFSETTO:+0200
TZNAME:CEST
DTSTART:20230326T010000
END:DAYLIGHT
BEGIN:STANDARD
TZOFFSETFROM:+0200
TZOFFSETTO:+0100
TZNAME:CET
DTSTART:20231029T010000
END:STANDARD
BEGIN:DAYLIGHT
TZOFFSETFROM:+0100
TZOFFSETTO:+0200
TZNAME:CEST
DTSTART:20240331T010000
END:DAYLIGHT
BEGIN:STANDARD
TZOFFSETFROM:+0200
TZOFFSETTO:+0100
TZNAME:CET
DTSTART:20241027T010000
END:STANDARD
BEGIN:DAYLIGHT
TZOFFSETFROM:+0100
TZOFFSETTO:+0200
TZNAME:CEST
DTSTART:20250330T010000
END:DAYLIGHT
BEGIN:STANDARD
TZOFFSETFROM:+0200
TZOFFSETTO:+0100
TZNAME:CET
DTSTART:20251026T010000
END:STANDARD
END:VTIMEZONE
BEGIN:VEVENT
DTSTART;TZID=Europe/Paris:20240507T183000
DTEND;TZID=Europe/Paris:20240507T203000
DTSTAMP:20260421T191843
CREATED:20240414T114134Z
LAST-MODIFIED:20240502T170533Z
UID:1439-1715106600-1715113800@repairedesjoueurs.fr
SUMMARY:Dice Throne
DESCRIPTION:Dice Throne est un jeu de société tactique compétitif qui combine l’excitation des jeux de dés avec la stratégie des jeux de cartes. Dice Throne offre une expérience de jeu dynamique et rapide\, où les joueurs s’affrontent pour la suprématie à travers des combats entre des personnages. Ce qui fait la force de Dice Throne est que chaque joueur incarne un personnage fantastique unique\, disposant de ses propres capacités\, forces et faiblesses\, représenté par un deck de cartes. \n\n\n\n\nA partir de 14 ans\n\n\n\nde 4 à 6 joueurs\n\n\n\n30 à 60 minutes\n\n\n\nIl n'y a plus de places disponibles pour ce jeu.
URL:https://repairedesjoueurs.fr/jeux/dice-throne/
LOCATION:Salle de l’Oasis\, 95 rue du Docteur Bailly\, Beaurepaire\, 38270\, France
CATEGORIES:Initié
END:VEVENT
BEGIN:VEVENT
DTSTART;TZID=Europe/Paris:20240521T183000
DTEND;TZID=Europe/Paris:20240521T203000
DTSTAMP:20260421T191843
CREATED:20231203T222020Z
LAST-MODIFIED:20240521T111651Z
UID:901-1716316200-1716323400@repairedesjoueurs.fr
SUMMARY:Red Rising
DESCRIPTION:Red Rising est un jeu de gestion de la main et de construction de combo pour 1 à 6 joueurs. Entrez dans cet univers futuriste\, basé sur la série de livres de Pierce Brown et mettant en scène une société dystopique divisée en 14 castes. Représentez une Maison qui tente de s’élever au pouvoir en rassemblant un grand nombre d’adeptes (votre jeu de cartes). \n\n\n\n⚠️ Jeu initié à partir de 15 ans \n\n\nIl n'y a plus de places disponibles pour ce jeu.
URL:https://repairedesjoueurs.fr/jeux/red-rising/
LOCATION:Salle de l’Oasis\, 95 rue du Docteur Bailly\, Beaurepaire\, 38270\, France
CATEGORIES:Initié
END:VEVENT
BEGIN:VEVENT
DTSTART;TZID=Europe/Paris:20240528T183000
DTEND;TZID=Europe/Paris:20240528T203000
DTSTAMP:20260421T191843
CREATED:20240414T130206Z
LAST-MODIFIED:20240517T214031Z
UID:1471-1716921000-1716928200@repairedesjoueurs.fr
SUMMARY:Yspahan
DESCRIPTION:Que vous occupiez les plus belles échoppes de la ville d’Yspahan ou que vous envoyiez vos marchandises dans les caravanes lointaines\, votre but est unique : devenir riche !Ce jeu a remporté le concours de la ludothèque de Boulogne Billancourt sous le nom de « Califes et Marchands ». En tant qu’honnête marchand d’une cité voisine d’Yspahan\, vous allez tenter d’acquérir le plus de prestige en fournissant les souks de votre ville et la caravane marchande vers Yspahan. Le jeu se déroule entre 3 manches (semaines) de 7 tours (jours). \n\n\n\n⚠️ Jeu initié à partir de 15 ans \n\n\nIl n'y a plus de places disponibles pour ce jeu.
URL:https://repairedesjoueurs.fr/jeux/yspahan/
LOCATION:Salle de l’Oasis\, 95 rue du Docteur Bailly\, Beaurepaire\, 38270\, France
CATEGORIES:Initié
END:VEVENT
BEGIN:VEVENT
DTSTART;TZID=Europe/Paris:20240528T183000
DTEND;TZID=Europe/Paris:20240528T203000
DTSTAMP:20260421T191843
CREATED:20240414T130834Z
LAST-MODIFIED:20240517T213906Z
UID:1478-1716921000-1716928200@repairedesjoueurs.fr
SUMMARY:Dungeon Academy
DESCRIPTION:Créez votre propre donjon en secouant les dés et relevez les défis de cet incroyable labyrinthe ! Incarnez un valeureux apprenti héros et parcourez le donjon afin d’accomplir une série de quêtes qui vous rapporteront de la gloire. Collectez des points de vie et de mana pour tenter de battre les monstres qui se dresseront sur votre chemin jusqu’à la salle au trésor ! \n\n\n\n⚠️ Jeu amateur à partir de 12 ans \n\n\nIl n'y a plus de places disponibles pour ce jeu.
URL:https://repairedesjoueurs.fr/jeux/dungeon-academy/
LOCATION:Salle de l’Oasis\, 95 rue du Docteur Bailly\, Beaurepaire\, 38270\, France
CATEGORIES:Amateur
END:VEVENT
END:VCALENDAR