BEGIN:VCALENDAR
VERSION:2.0
PRODID:-//Repaire des joueurs - ECPv6.15.20//NONSGML v1.0//EN
CALSCALE:GREGORIAN
METHOD:PUBLISH
X-WR-CALNAME:Repaire des joueurs
X-ORIGINAL-URL:https://repairedesjoueurs.fr
X-WR-CALDESC:Évènements pour Repaire des joueurs
REFRESH-INTERVAL;VALUE=DURATION:PT1H
X-Robots-Tag:noindex
X-PUBLISHED-TTL:PT1H
BEGIN:VTIMEZONE
TZID:Europe/Paris
BEGIN:DAYLIGHT
TZOFFSETFROM:+0100
TZOFFSETTO:+0200
TZNAME:CEST
DTSTART:20230326T010000
END:DAYLIGHT
BEGIN:STANDARD
TZOFFSETFROM:+0200
TZOFFSETTO:+0100
TZNAME:CET
DTSTART:20231029T010000
END:STANDARD
BEGIN:DAYLIGHT
TZOFFSETFROM:+0100
TZOFFSETTO:+0200
TZNAME:CEST
DTSTART:20240331T010000
END:DAYLIGHT
BEGIN:STANDARD
TZOFFSETFROM:+0200
TZOFFSETTO:+0100
TZNAME:CET
DTSTART:20241027T010000
END:STANDARD
BEGIN:DAYLIGHT
TZOFFSETFROM:+0100
TZOFFSETTO:+0200
TZNAME:CEST
DTSTART:20250330T010000
END:DAYLIGHT
BEGIN:STANDARD
TZOFFSETFROM:+0200
TZOFFSETTO:+0100
TZNAME:CET
DTSTART:20251026T010000
END:STANDARD
END:VTIMEZONE
BEGIN:VEVENT
DTSTART;TZID=Europe/Paris:20240604T183000
DTEND;TZID=Europe/Paris:20240604T203000
DTSTAMP:20260421T174251
CREATED:20240414T132337Z
LAST-MODIFIED:20240603T174352Z
UID:1495-1717525800-1717533000@repairedesjoueurs.fr
SUMMARY:Bloodstones
DESCRIPTION:Il s’agit d’un un wargame fantastique qui met en scène six races différentes. Chaque race de Bloodstones possède son propre mélange d’unités dotées de pouvoirs spécifiques et représentées par des tuiles en forme de domino. Certaines de ces unités sont uniques à cette race\, comme les Dragons pour les Dragonniers et les Géants pour le Peuple des Collines. Le but du jeu est d’avoir le plus de points de victoire à la fin de la partie. Les points de victoire peuvent être obtenus en construisant\, en attaquant les villages des autres joueurs et en gagnant des batailles.  \n\n\n\n⚠️ Jeu expert à partir de 18 ans \n\n\n\n \n\n\nIl n'y a plus de places disponibles pour ce jeu.
URL:https://repairedesjoueurs.fr/jeux/bloodstones/
LOCATION:Salle de l’Oasis\, 95 rue du Docteur Bailly\, Beaurepaire\, 38270\, France
CATEGORIES:Expert
END:VEVENT
BEGIN:VEVENT
DTSTART;TZID=Europe/Paris:20240604T183000
DTEND;TZID=Europe/Paris:20240604T203000
DTSTAMP:20260421T174251
CREATED:20240414T133126Z
LAST-MODIFIED:20240517T213745Z
UID:1500-1717525800-1717533000@repairedesjoueurs.fr
SUMMARY:Sagrada & Conspiracy
DESCRIPTION:Sagrada : Vous êtes un artiste en concurrence avec d’autres artistes pour créer le plus beau vitrail de la Sagrada Familia. Vos pièces de verre sont représentées par des dés\, qui ont une couleur et une nuance – indiquées par les valeurs sur les dés (plus la valeur est faible\, plus la nuance est claire).  \n\n\n\nConspiracy : Parviendrez-vous à asseoir votre pouvoir et régner en maître sur l’Assemblée Océanique du Sénat ? Replongez dans l’univers d’Abyss et Ralliez des Seigneurs à votre cause pour constituer la Chambre Sénatoriale la plus influente de l’hémicycle et vous assurer ainsi la mainmise sur l’Assemblée Océanique du Sénat. \n\n\n\n⚠️ Jeux amateurs à partir de 12 ans \n\n\nIl n'y a plus de places disponibles pour ce jeu.
URL:https://repairedesjoueurs.fr/jeux/petits-jeux-sagrada-conspiracy/
LOCATION:Salle de l’Oasis\, 95 rue du Docteur Bailly\, Beaurepaire\, 38270\, France
CATEGORIES:Amateur
END:VEVENT
BEGIN:VEVENT
DTSTART;TZID=Europe/Paris:20240611T183000
DTEND;TZID=Europe/Paris:20240611T203000
DTSTAMP:20260421T174251
CREATED:20240414T133645Z
LAST-MODIFIED:20240524T170630Z
UID:1503-1718130600-1718137800@repairedesjoueurs.fr
SUMMARY:Sub Terra
DESCRIPTION:Sub Terra est un jeu de survie collaboratif et horrifique pour un à six joueurs. Alors que vous faites partie d’un groupe de spéléologues\, vous vous retrouvé piégé dans les profondeurs souterraines à la suite d’un incident. Pour conserver un maximum de chance de sortir en vie de cette mésaventure\, vous devrez travailler tous ensemble. Vos lampes s’épuisent rapidement\, ne perdez donc pas un instant. Au risque de vous retrouver perdus pour l’éternité dans les ténèbres. \n\n\n\n⚠️ Jeu initié à partir de 15 ans \n\n\n\n \n\n\nIl n'y a plus de places disponibles pour ce jeu.
URL:https://repairedesjoueurs.fr/jeux/sub-terra/
LOCATION:Salle de l’Oasis\, 95 rue du Docteur Bailly\, Beaurepaire\, 38270\, France
CATEGORIES:Initié
END:VEVENT
END:VCALENDAR