BEGIN:VCALENDAR
VERSION:2.0
PRODID:-//Repaire des joueurs - ECPv6.15.20//NONSGML v1.0//EN
CALSCALE:GREGORIAN
METHOD:PUBLISH
X-WR-CALNAME:Repaire des joueurs
X-ORIGINAL-URL:https://repairedesjoueurs.fr
X-WR-CALDESC:Évènements pour Repaire des joueurs
REFRESH-INTERVAL;VALUE=DURATION:PT1H
X-Robots-Tag:noindex
X-PUBLISHED-TTL:PT1H
BEGIN:VTIMEZONE
TZID:Europe/Paris
BEGIN:DAYLIGHT
TZOFFSETFROM:+0100
TZOFFSETTO:+0200
TZNAME:CEST
DTSTART:20230326T010000
END:DAYLIGHT
BEGIN:STANDARD
TZOFFSETFROM:+0200
TZOFFSETTO:+0100
TZNAME:CET
DTSTART:20231029T010000
END:STANDARD
BEGIN:DAYLIGHT
TZOFFSETFROM:+0100
TZOFFSETTO:+0200
TZNAME:CEST
DTSTART:20240331T010000
END:DAYLIGHT
BEGIN:STANDARD
TZOFFSETFROM:+0200
TZOFFSETTO:+0100
TZNAME:CET
DTSTART:20241027T010000
END:STANDARD
BEGIN:DAYLIGHT
TZOFFSETFROM:+0100
TZOFFSETTO:+0200
TZNAME:CEST
DTSTART:20250330T010000
END:DAYLIGHT
BEGIN:STANDARD
TZOFFSETFROM:+0200
TZOFFSETTO:+0100
TZNAME:CET
DTSTART:20251026T010000
END:STANDARD
END:VTIMEZONE
BEGIN:VEVENT
DTSTART;TZID=Europe/Paris:20240825T140000
DTEND;TZID=Europe/Paris:20240825T200000
DTSTAMP:20260421T143214
CREATED:20240729T101654Z
LAST-MODIFIED:20240812T172022Z
UID:1684-1724594400-1724616000@repairedesjoueurs.fr
SUMMARY:Après-midi Jeux à La Tannerie
DESCRIPTION:Dimanche 25 août 2024 à partir de 14h sur le site de la Tannerie à Saint-Barthélémy de Beaurepaire (38270). \n\n\n\nL’association Le Repaire des Joueurs\, en collaboration avec l’association La Tannerie\, vous propose une après-midi dédiée aux jeux de société organisée dans un cadre magnifique !  \n\n\n\n\n\n\n\nCet événement a pour but de rassembler les amateurs de jeux de tout âge pour une journée conviviale et ludique\, favorisant les rencontres et les échanges.  \n\n\n\nLes enfants sont les bienvenus\, mais peu de jeux seront disponibles pour les moins de 16 ans (n’hésitez pas à ramener vos propres jeux!). Des jeux en bois seront à disposition dans le parc. \n\n\n\nSur place : Un bar (bières\, soft)\, des glaces artisanales et nos adhérents qui sera présents pour animer des tables !
URL:https://repairedesjoueurs.fr/jeux/apres-midi-jeux-a-la-tannerie/
LOCATION:La Tannerie\, Impasse des Tanneurs\, Saint-Barthélémy-de-Beaurepaire\, 38270
END:VEVENT
END:VCALENDAR