BEGIN:VCALENDAR
VERSION:2.0
PRODID:-//Repaire des joueurs - ECPv6.15.20//NONSGML v1.0//EN
CALSCALE:GREGORIAN
METHOD:PUBLISH
X-ORIGINAL-URL:https://repairedesjoueurs.fr
X-WR-CALDESC:Évènements pour Repaire des joueurs
REFRESH-INTERVAL;VALUE=DURATION:PT1H
X-Robots-Tag:noindex
X-PUBLISHED-TTL:PT1H
BEGIN:VTIMEZONE
TZID:Europe/Paris
BEGIN:DAYLIGHT
TZOFFSETFROM:+0100
TZOFFSETTO:+0200
TZNAME:CEST
DTSTART:20230326T010000
END:DAYLIGHT
BEGIN:STANDARD
TZOFFSETFROM:+0200
TZOFFSETTO:+0100
TZNAME:CET
DTSTART:20231029T010000
END:STANDARD
BEGIN:DAYLIGHT
TZOFFSETFROM:+0100
TZOFFSETTO:+0200
TZNAME:CEST
DTSTART:20240331T010000
END:DAYLIGHT
BEGIN:STANDARD
TZOFFSETFROM:+0200
TZOFFSETTO:+0100
TZNAME:CET
DTSTART:20241027T010000
END:STANDARD
BEGIN:DAYLIGHT
TZOFFSETFROM:+0100
TZOFFSETTO:+0200
TZNAME:CEST
DTSTART:20250330T010000
END:DAYLIGHT
BEGIN:STANDARD
TZOFFSETFROM:+0200
TZOFFSETTO:+0100
TZNAME:CET
DTSTART:20251026T010000
END:STANDARD
END:VTIMEZONE
BEGIN:VEVENT
DTSTART;TZID=Europe/Paris:20241105T183000
DTEND;TZID=Europe/Paris:20241105T230000
DTSTAMP:20260421T095401
CREATED:20240414T121840Z
LAST-MODIFIED:20241022T114354Z
UID:1450-1730831400-1730847600@repairedesjoueurs.fr
SUMMARY:Soirée spéciale avec la Ludothèque de Saint-Sorlin-en-Valloire
DESCRIPTION:Soirée qui aura lieu exceptionnellement à Saint-Sorlin-en-Valloire (26210) à côté de la Bibliothèque. \n\n\n\nNous encourageons les participants à apporter leurs propres jeux. C’est l’occasion parfaite de partager vos jeux préférés. \n\n\n\nCette session promet d’être un moment de rencontre et d’échange enrichissant entre nos membres. Dans un esprit de partage et de collaboration\, nous nous réunirons pour célébrer notre passion commune pour les jeux de société !
URL:https://repairedesjoueurs.fr/jeux/soiree-speciale-a-la-ludotheque-de-saint-sorlin-en-valloire/
LOCATION:Bibliothèque de Saint-Sorlin\, 2 place de la mairie\, Saint-Sorlin-en-Valloire\, Drôme\, 26210\, France
CATEGORIES:Amateur
END:VEVENT
BEGIN:VEVENT
DTSTART;TZID=Europe/Paris:20241112T183000
DTEND;TZID=Europe/Paris:20241112T203000
DTSTAMP:20260421T095401
CREATED:20241101T121911Z
LAST-MODIFIED:20241106T171235Z
UID:1906-1731436200-1731443400@repairedesjoueurs.fr
SUMMARY:Forêt Mixte
DESCRIPTION:A quelques pas d’ici\, la forêt est plein de vie. Les animaux arpentent les clairières en quête de plantes ou d’insectes à se mettre sous la dent. Certains aiment se percher au sommet de l’épais couvert forestier\, tandis que d’autres préfèrent de tapir dans les sous bois. \n\n\n\n\nDifficulté : ⭐️⭐️\n\n\n\nIl n'y a plus de places disponibles pour ce jeu.
URL:https://repairedesjoueurs.fr/jeux/foret-mixte/
LOCATION:Salle de l’Oasis\, 95 rue du Docteur Bailly\, Beaurepaire\, 38270\, France
CATEGORIES:Amateur
ATTACH;FMTTYPE=image/jpeg:https://repairedesjoueurs.fr/wp-content/uploads/2024/11/image-e1730463539377.jpeg
END:VEVENT
BEGIN:VEVENT
DTSTART;TZID=Europe/Paris:20241112T183000
DTEND;TZID=Europe/Paris:20241112T203000
DTSTAMP:20260421T095401
CREATED:20241101T122349Z
LAST-MODIFIED:20241106T171306Z
UID:1912-1731436200-1731443400@repairedesjoueurs.fr
SUMMARY:QE + petits jeux
DESCRIPTION:Q.E. (pour Quantitative Easing\, Assouplissement quantitatif) est un jeu d’enchère dans lequel les joueurs incarnent des nations pendant le crise économique de 2008 \n\n\n\n\nDifficulté : ⭐️\n\n\n\nIl n'y a plus de places disponibles pour ce jeu.
URL:https://repairedesjoueurs.fr/jeux/qe-petits-jeux/
LOCATION:Salle de l’Oasis\, 95 rue du Docteur Bailly\, Beaurepaire\, 38270\, France
CATEGORIES:Ambiance
END:VEVENT
BEGIN:VEVENT
DTSTART;TZID=Europe/Paris:20241112T183000
DTEND;TZID=Europe/Paris:20241112T203000
DTSTAMP:20260421T095401
CREATED:20241101T122707Z
LAST-MODIFIED:20241104T105712Z
UID:1917-1731436200-1731443400@repairedesjoueurs.fr
SUMMARY:Vikings Gone Wild
DESCRIPTION:Dans Vikings Gone Wild\, les joueurs prennent la tête de clans vikings qui doivent prouver aux dieu qui est le meilleur. Adapté d’un jeu vidéo très populaire\, Vikings Gone Wild est un excellent mélange de « Deck Building » et de gestion économique. \n\n\n\n\nDifficulté : ⭐️⭐️\n\n\n\nIl n'y a plus de places disponibles pour ce jeu.
URL:https://repairedesjoueurs.fr/jeux/vikings-gone-wild/
LOCATION:Salle de l’Oasis\, 95 rue du Docteur Bailly\, Beaurepaire\, 38270\, France
CATEGORIES:Amateur
ATTACH;FMTTYPE=image/png:https://repairedesjoueurs.fr/wp-content/uploads/2024/11/image-2.png
END:VEVENT
BEGIN:VEVENT
DTSTART;TZID=Europe/Paris:20241119T183000
DTEND;TZID=Europe/Paris:20241119T203000
DTSTAMP:20260421T095401
CREATED:20231203T214418Z
LAST-MODIFIED:20241104T105746Z
UID:879-1732041000-1732048200@repairedesjoueurs.fr
SUMMARY:L'Oracle de Delphes
DESCRIPTION:Dans le jeu de Stefan Feld\, L’Oracle de Delphes\, les navires des joueurs voyagent à travers un grand plateau de jeu variable fait de tuiles hexagonales montrant les îles et les eaux environnantes. \n\n\n\nChaque joueur vise à atteindre certaines îles pour effectuer les douze tâches imposées par Zeus : par exemple\, recueillir des offrandes de couleurs différentes et les livrer aux temples correspondants\, ou tuer des monstres d’un type spécifique (et d’une certaine couleur)\, et tout ça peut être découvert sur les îles. \n\n\n\n\nDifficulté : ⭐️⭐️⭐️⭐️\n\n\n\nIl n'y a plus de places disponibles pour ce jeu.
URL:https://repairedesjoueurs.fr/jeux/loracle-de-delphes/
LOCATION:Salle de l’Oasis\, 95 rue du Docteur Bailly\, Beaurepaire\, 38270\, France
CATEGORIES:Expert
END:VEVENT
BEGIN:VEVENT
DTSTART;TZID=Europe/Paris:20241119T183000
DTEND;TZID=Europe/Paris:20241119T203000
DTSTAMP:20260421T095401
CREATED:20231203T230046Z
LAST-MODIFIED:20241104T105754Z
UID:940-1732041000-1732048200@repairedesjoueurs.fr
SUMMARY:It's a wonderful world
DESCRIPTION:Dans It’s a Wonderful World\, incarnez un Empire en plein développement. Affrontez vos adversaires et régnez en maître sur le monde. Dans ce jeu de draft de cartes et de moteur de ressources\, vous êtes à la tête d’un Empire en expansion. La finance\, la guerre\, le science ou alors une toute autre voie. Quelle sera votre stratégie pour vous imposer face à vos concurrents ?  \n\n\n\n\nDifficulté : ⭐️⭐️\n\n\n\nIl n'y a plus de places disponibles pour ce jeu.
URL:https://repairedesjoueurs.fr/jeux/its-a-wonderful-world/
LOCATION:Salle de l’Oasis\, 95 rue du Docteur Bailly\, Beaurepaire\, 38270\, France
CATEGORIES:Initié
END:VEVENT
BEGIN:VEVENT
DTSTART;TZID=Europe/Paris:20241126T183000
DTEND;TZID=Europe/Paris:20241126T203000
DTSTAMP:20260421T095401
CREATED:20240414T123205Z
LAST-MODIFIED:20241125T195522Z
UID:1462-1732645800-1732653000@repairedesjoueurs.fr
SUMMARY:Jeux d'ambiance : Mino dice + Excape
DESCRIPTION:Mino dice : Mino Dice reprend le principe du célèbre jeu Skull King mais dans une version avec des dés ! Faites des plis avec des dés et devinez combien de plis vous allez faire ou pas avant chaque manche. \n\n\n\nExcape : Excape est un jeu de dé abstrait. Le but est d’être le premier à terminer un parcours constitué de 20 cases. Si le hasard est présent dans le jeu\, c’est aussi une prise de risque mesurée et de judicieux choix de placement qui vous permettrons de remporter la partie. \n\n\n\n\nDifficulté : ⭐️\n\n\n\nIl n'y a plus de places disponibles pour ce jeu.
URL:https://repairedesjoueurs.fr/jeux/jeux-dambiance-detrak-minodice-excape/
LOCATION:Salle de l’Oasis\, 95 rue du Docteur Bailly\, Beaurepaire\, 38270\, France
CATEGORIES:Ambiance
END:VEVENT
BEGIN:VEVENT
DTSTART;TZID=Europe/Paris:20241126T183000
DTEND;TZID=Europe/Paris:20241126T203000
DTSTAMP:20260421T095401
CREATED:20241112T124552Z
LAST-MODIFIED:20241112T124553Z
UID:2002-1732645800-1732653000@repairedesjoueurs.fr
SUMMARY:Gizmos
DESCRIPTION:Gizmos est un jeu de logique où vous devrez faire preuve d’astuce pour construire les machines les plus saugrenues tout cela pour remporter le Grand Prix de la Fête de la Science ! \n\n\n\n\nDifficulté : ⭐️⭐️\n\n\n\nIl n'y a plus de places disponibles pour ce jeu.
URL:https://repairedesjoueurs.fr/jeux/gizmos2/
LOCATION:Salle de l’Oasis\, 95 rue du Docteur Bailly\, Beaurepaire\, 38270\, France
CATEGORIES:Amateur
ATTACH;FMTTYPE=image/png:https://repairedesjoueurs.fr/wp-content/uploads/2024/11/image-7-e1730668324584.png
END:VEVENT
BEGIN:VEVENT
DTSTART;TZID=Europe/Paris:20241126T183000
DTEND;TZID=Europe/Paris:20241126T213000
DTSTAMP:20260421T095401
CREATED:20240219T230353Z
LAST-MODIFIED:20241111T151749Z
UID:1260-1732645800-1732656600@repairedesjoueurs.fr
SUMMARY:Dune Imperium
DESCRIPTION:Adapté de l’univers de Frank Herbert\, Dune : Imperium est un jeu de stratégie mêlant deckbuilding et placement d’ouvriers pour offrir une mécanique de jeu profondément thématique pour coller à ce monument de la Science-Fiction. \n\n\n\n\nDifficulté : ⭐️⭐️⭐️⭐️\n\n\n\nIl n'y a plus de places disponibles pour ce jeu.
URL:https://repairedesjoueurs.fr/jeux/dune-imperium/
LOCATION:Salle de l’Oasis\, 95 rue du Docteur Bailly\, Beaurepaire\, 38270\, France
CATEGORIES:Expert
END:VEVENT
END:VCALENDAR