BEGIN:VCALENDAR
VERSION:2.0
PRODID:-//Repaire des joueurs - ECPv6.15.20//NONSGML v1.0//EN
CALSCALE:GREGORIAN
METHOD:PUBLISH
X-WR-CALNAME:Repaire des joueurs
X-ORIGINAL-URL:https://repairedesjoueurs.fr
X-WR-CALDESC:Évènements pour Repaire des joueurs
REFRESH-INTERVAL;VALUE=DURATION:PT1H
X-Robots-Tag:noindex
X-PUBLISHED-TTL:PT1H
BEGIN:VTIMEZONE
TZID:Europe/Paris
BEGIN:DAYLIGHT
TZOFFSETFROM:+0100
TZOFFSETTO:+0200
TZNAME:CEST
DTSTART:20240331T010000
END:DAYLIGHT
BEGIN:STANDARD
TZOFFSETFROM:+0200
TZOFFSETTO:+0100
TZNAME:CET
DTSTART:20241027T010000
END:STANDARD
BEGIN:DAYLIGHT
TZOFFSETFROM:+0100
TZOFFSETTO:+0200
TZNAME:CEST
DTSTART:20250330T010000
END:DAYLIGHT
BEGIN:STANDARD
TZOFFSETFROM:+0200
TZOFFSETTO:+0100
TZNAME:CET
DTSTART:20251026T010000
END:STANDARD
BEGIN:DAYLIGHT
TZOFFSETFROM:+0100
TZOFFSETTO:+0200
TZNAME:CEST
DTSTART:20260329T010000
END:DAYLIGHT
BEGIN:STANDARD
TZOFFSETFROM:+0200
TZOFFSETTO:+0100
TZNAME:CET
DTSTART:20261025T010000
END:STANDARD
END:VTIMEZONE
BEGIN:VEVENT
DTSTART;TZID=Europe/Paris:20250304T183000
DTEND;TZID=Europe/Paris:20250304T203000
DTSTAMP:20260421T032307
CREATED:20240128T182549Z
LAST-MODIFIED:20250223T100816Z
UID:1128-1741113000-1741120200@repairedesjoueurs.fr
SUMMARY:Les Petites Bourgades
DESCRIPTION:Les Petites Bourgades est un jeu de construction de village intégrant un système original de draft et de combinaisons. Planifiez et construisez une bourgade prospère et remportez la partie ! Si vos projets de construction sont ambitieux\, la place et les ressources\, quant à elles sont limitées. Pour espérer l’emporter\, vous devrez planifier et construire judicieusement votre ville. Le gaspillage des ressources pourra vous coûter la victoire. Bâtissez la bourgade la mieux agencée et devenez le maire d’une petite ville prospère. \n\n\n\n\nDifficulté : ⭐️\n\n\n\nIl n'y a plus de places disponibles pour ce jeu.
URL:https://repairedesjoueurs.fr/jeux/les-petites-bourgades/
LOCATION:Salle de l’Oasis\, 95 rue du Docteur Bailly\, Beaurepaire\, 38270\, France
CATEGORIES:Amateur
END:VEVENT
BEGIN:VEVENT
DTSTART;TZID=Europe/Paris:20250304T183000
DTEND;TZID=Europe/Paris:20250304T203000
DTSTAMP:20260421T032307
CREATED:20241202T000257Z
LAST-MODIFIED:20250223T100910Z
UID:1960-1741113000-1741120200@repairedesjoueurs.fr
SUMMARY:Citadelles
DESCRIPTION:Citadelles est un jeu de bluff\, d’intrigues et de stratégie dans lequel les joueurs doivent bâtir une cité prestigieuse avant que leurs adversaires ne parviennent à construire la leur. Citadelles est devenu un classique du jeu de société moderne.  \n\n\n\n\nDifficulté : ⭐️⭐️\n\n\n\nIl n'y a plus de places disponibles pour ce jeu.
URL:https://repairedesjoueurs.fr/jeux/citadelles/
LOCATION:Salle de l’Oasis\, 95 rue du Docteur Bailly\, Beaurepaire\, 38270\, France
CATEGORIES:Ambiance
ATTACH;FMTTYPE=image/png:https://repairedesjoueurs.fr/wp-content/uploads/2024/11/image-8.png
END:VEVENT
BEGIN:VEVENT
DTSTART;TZID=Europe/Paris:20250304T183000
DTEND;TZID=Europe/Paris:20250304T203000
DTSTAMP:20260421T032307
CREATED:20250219T145759Z
LAST-MODIFIED:20250223T100713Z
UID:2245-1741113000-1741120200@repairedesjoueurs.fr
SUMMARY:Everdell Farshore
DESCRIPTION:Bienvenue dans Everdell Farshore\, un jeu autonome dans l’univers d’Everdell\, qui se déroule dans le pays de Farshore. Au fil des saisons\, vous dirigez une équipe de créatures qui travaillent à la construction d’une ville prospère et à l’exploration de l’océan enchanteur qui l’entoure. Vous devez planifier vos actions avec soin afin de construire et de naviguer\, car ce n’est qu’en vous adaptant aux vents du changement que vous réussirez. \n\n\n\n\nDifficulté : ⭐️⭐️⭐️\n\n\n\nIl n'y a plus de places disponibles pour ce jeu.
URL:https://repairedesjoueurs.fr/jeux/everdell-farshore/
LOCATION:Salle de l’Oasis\, 95 rue du Docteur Bailly\, Beaurepaire\, 38270\, France
CATEGORIES:Initié
ATTACH;FMTTYPE=image/png:https://repairedesjoueurs.fr/wp-content/uploads/2025/02/image.png
END:VEVENT
BEGIN:VEVENT
DTSTART;TZID=Europe/Paris:20250304T183000
DTEND;TZID=Europe/Paris:20250304T203000
DTSTAMP:20260421T032307
CREATED:20250219T150308Z
LAST-MODIFIED:20250223T100718Z
UID:2250-1741113000-1741120200@repairedesjoueurs.fr
SUMMARY:The Great Race
DESCRIPTION:Nous sommes dans les années 1930. Au volant de votre autochenille vous allez vivre la plus incroyable des aventures humaines. Vous mènerez votre véhicule des jungles africaines\, à la cordillère des Andes\, des déserts infranchissables\, aux plus hauts sommets du monde. \n\n\n\nDans The Great Race vous gérez votre équipe d’assistant pour mener votre véhicule d’un bout à l’autre d’un continent. Vos éclaireurs ouvriront le chemin\, vos mécaniciens répareront votre autochenille et la piloteront d’étapes en étapes\, quand vos escortes garantiront la sécurité du convoi. \n\n\n\n\nDifficulté : ⭐️⭐️\n\n\n\nIl n'y a plus de places disponibles pour ce jeu.
URL:https://repairedesjoueurs.fr/jeux/the-great-race/
LOCATION:Salle de l’Oasis\, 95 rue du Docteur Bailly\, Beaurepaire\, 38270\, France
CATEGORIES:Amateur
ATTACH;FMTTYPE=image/png:https://repairedesjoueurs.fr/wp-content/uploads/2025/02/image-2-e1739977181637.png
END:VEVENT
BEGIN:VEVENT
DTSTART;TZID=Europe/Paris:20250311T183000
DTEND;TZID=Europe/Paris:20250311T203000
DTSTAMP:20260421T032307
CREATED:20240929T115108Z
LAST-MODIFIED:20250302T091947Z
UID:1857-1741717800-1741725000@repairedesjoueurs.fr
SUMMARY:Flamecraft
DESCRIPTION:Dans Flamecraft\, les joueurs jouent le rôle des gardiens de flammes\, rassemblant des objets\, plaçant des dragons et lançant des enchantements pour améliorer les boutiques de la ville. Votre réputation grandira au fur et à mesure que vous aiderez les dragons et les commerçants\, et le Gardien le plus réputé sera connu comme le Maître de l’Artisanat des Flammes. \n\n\n\n\nDifficulté : ⭐️⭐️\n\n\n\nIl n'y a plus de places disponibles pour ce jeu.
URL:https://repairedesjoueurs.fr/jeux/flamecraft/
LOCATION:Salle de l’Oasis\, 95 rue du Docteur Bailly\, Beaurepaire\, 38270\, France
CATEGORIES:Amateur
ATTACH;FMTTYPE=image/png:https://repairedesjoueurs.fr/wp-content/uploads/2024/09/image.png
END:VEVENT
BEGIN:VEVENT
DTSTART;TZID=Europe/Paris:20250311T183000
DTEND;TZID=Europe/Paris:20250311T203000
DTSTAMP:20260421T032307
CREATED:20250219T164201Z
LAST-MODIFIED:20250302T092022Z
UID:2314-1741717800-1741725000@repairedesjoueurs.fr
SUMMARY:L'Ile au Trésor
DESCRIPTION:L’Île au Trésor est un jeu de bluff et d’aventures où vous devrez percer le secret de Long John Silver. Décryptez les indices et localisez son trésor pour sortir gagnant du jeu.– Difficulté : ⭐️⭐️ \n\n\nIl n'y a plus de places disponibles pour ce jeu.
URL:https://repairedesjoueurs.fr/jeux/lile-au-tresor/
LOCATION:Salle de l’Oasis\, 95 rue du Docteur Bailly\, Beaurepaire\, 38270\, France
CATEGORIES:Ambiance
ATTACH;FMTTYPE=image/png:https://repairedesjoueurs.fr/wp-content/uploads/2025/02/image-12.png
END:VEVENT
BEGIN:VEVENT
DTSTART;TZID=Europe/Paris:20250311T183000
DTEND;TZID=Europe/Paris:20250311T203000
DTSTAMP:20260421T032307
CREATED:20250304T094634Z
LAST-MODIFIED:20250304T094635Z
UID:2260-1741717800-1741725000@repairedesjoueurs.fr
SUMMARY:Pulsar 2849
DESCRIPTION:Nous sommes en l’an 2849\, un millénaire après la ruée vers l’or\, et l’extraction des matières premières vient d’atteindre un nouveau sommet. L’humanité a testé avec succès le premier miroir stellaire et exploité suffisamment de puissance d’un Pulsar pour ouvrir le premier portail spatial. \n\n\n\n\nDifficulté : ⭐️⭐️⭐️⭐️\n\n\n\nIl n'y a plus de places disponibles pour ce jeu.
URL:https://repairedesjoueurs.fr/jeux/pulsar-2849/
LOCATION:Salle de l’Oasis\, 95 rue du Docteur Bailly\, Beaurepaire\, 38270\, France
CATEGORIES:Expert
ATTACH;FMTTYPE=image/jpeg:https://repairedesjoueurs.fr/wp-content/uploads/2025/02/image.jpeg
END:VEVENT
BEGIN:VEVENT
DTSTART;TZID=Europe/Paris:20250318T183000
DTEND;TZID=Europe/Paris:20250318T203000
DTSTAMP:20260421T032307
CREATED:20240220T161523Z
LAST-MODIFIED:20250318T095548Z
UID:1314-1742322600-1742329800@repairedesjoueurs.fr
SUMMARY:Jamaica
DESCRIPTION:Jamaica est un jeu de course tactique sur le thème des pirates\, avec des interactions entre joueurs et des buts secondaires\, comme par exemple faire un détour pour obtenir un trésor. \n\n\n\n\nDifficulté : ⭐️\n\n\n\nIl n'y a plus de places disponibles pour ce jeu.
URL:https://repairedesjoueurs.fr/jeux/jamaica/
LOCATION:Salle de l’Oasis\, 95 rue du Docteur Bailly\, Beaurepaire\, 38270\, France
CATEGORIES:Amateur
END:VEVENT
BEGIN:VEVENT
DTSTART;TZID=Europe/Paris:20250318T183000
DTEND;TZID=Europe/Paris:20250318T220000
DTSTAMP:20260421T032307
CREATED:20250222T140250Z
LAST-MODIFIED:20250307T152059Z
UID:2358-1742322600-1742335200@repairedesjoueurs.fr
SUMMARY:Terra Mistica : Projet Gaïa
DESCRIPTION:Projet Gaia est un jeu Space Opera dans l’univers du désormais plus que célèbre Terra Mystica. C’est un jeu de développement et de pouvoirs qui ne s’appuie pas sur la chance ou le hasard. Chaque joueur incarne l’une des 14 différentes factions souhaitant coloniser une galaxie en s’implantant sur ses différentes planètes.  Vous pourrez y construire et améliorer vos bâtiments de différentes façons et ainsi gagner des ressources et d’autres avantages utiles par la suite.  \n\n\n\n\nDifficulté : ⭐️⭐️⭐️⭐️⭐️\n\n\n\nIl n'y a plus de places disponibles pour ce jeu.
URL:https://repairedesjoueurs.fr/jeux/terra-mistica-projet-gaia/
LOCATION:Salle de l’Oasis\, 95 rue du Docteur Bailly\, Beaurepaire\, 38270\, France
CATEGORIES:Expert
ATTACH;FMTTYPE=image/png:https://repairedesjoueurs.fr/wp-content/uploads/2025/02/image-22-e1740232851800.png
END:VEVENT
BEGIN:VEVENT
DTSTART;TZID=Europe/Paris:20250325T183000
DTEND;TZID=Europe/Paris:20250325T203000
DTSTAMP:20260421T032307
CREATED:20250219T171704Z
LAST-MODIFIED:20250312T105546Z
UID:2331-1742927400-1742934600@repairedesjoueurs.fr
SUMMARY:Seasons
DESCRIPTION:Dans Seasons\, optimisez les cartes choisies par le biais de savantes combinaisons\, utilisez les saisons à bon escient pour accéder aux énergies\, gagner des cristaux et devenez le maître des lieux. \n\n\n\n\nDifficulté : ⭐️⭐️⭐️\n\n\n\nIl n'y a plus de places disponibles pour ce jeu.
URL:https://repairedesjoueurs.fr/jeux/seasons/
LOCATION:Salle de l’Oasis\, 95 rue du Docteur Bailly\, Beaurepaire\, 38270\, France
CATEGORIES:Initié
ATTACH;FMTTYPE=image/png:https://repairedesjoueurs.fr/wp-content/uploads/2025/02/image-16.png
END:VEVENT
END:VCALENDAR