BEGIN:VCALENDAR
VERSION:2.0
PRODID:-//Repaire des joueurs - ECPv6.15.20//NONSGML v1.0//EN
CALSCALE:GREGORIAN
METHOD:PUBLISH
X-ORIGINAL-URL:https://repairedesjoueurs.fr
X-WR-CALDESC:Évènements pour Repaire des joueurs
REFRESH-INTERVAL;VALUE=DURATION:PT1H
X-Robots-Tag:noindex
X-PUBLISHED-TTL:PT1H
BEGIN:VTIMEZONE
TZID:Europe/Paris
BEGIN:DAYLIGHT
TZOFFSETFROM:+0100
TZOFFSETTO:+0200
TZNAME:CEST
DTSTART:20240331T010000
END:DAYLIGHT
BEGIN:STANDARD
TZOFFSETFROM:+0200
TZOFFSETTO:+0100
TZNAME:CET
DTSTART:20241027T010000
END:STANDARD
BEGIN:DAYLIGHT
TZOFFSETFROM:+0100
TZOFFSETTO:+0200
TZNAME:CEST
DTSTART:20250330T010000
END:DAYLIGHT
BEGIN:STANDARD
TZOFFSETFROM:+0200
TZOFFSETTO:+0100
TZNAME:CET
DTSTART:20251026T010000
END:STANDARD
BEGIN:DAYLIGHT
TZOFFSETFROM:+0100
TZOFFSETTO:+0200
TZNAME:CEST
DTSTART:20260329T010000
END:DAYLIGHT
BEGIN:STANDARD
TZOFFSETFROM:+0200
TZOFFSETTO:+0100
TZNAME:CET
DTSTART:20261025T010000
END:STANDARD
END:VTIMEZONE
BEGIN:VEVENT
DTSTART;TZID=Europe/Paris:20250401T183000
DTEND;TZID=Europe/Paris:20250401T203000
DTSTAMP:20260421T015402
CREATED:20250219T172110Z
LAST-MODIFIED:20250328T140822Z
UID:2335-1743532200-1743539400@repairedesjoueurs.fr
SUMMARY:Mystérium
DESCRIPTION:Mysterium est un jeu d’enquête coopératif dans lequel tous les joueurs sont unis dans un même but : découvrir la vérité sur la mort du fantôme qui hante le manoir et lui apporter la paix ! \n\n\n\n\nDifficulté : ⭐️\n\n\n\nIl n'y a plus de places disponibles pour ce jeu.
URL:https://repairedesjoueurs.fr/jeux/mysterium/
LOCATION:Salle de l’Oasis\, 95 rue du Docteur Bailly\, Beaurepaire\, 38270\, France
CATEGORIES:Ambiance
ATTACH;FMTTYPE=image/png:https://repairedesjoueurs.fr/wp-content/uploads/2025/02/image-18.png
END:VEVENT
BEGIN:VEVENT
DTSTART;TZID=Europe/Paris:20250401T183000
DTEND;TZID=Europe/Paris:20250401T203000
DTSTAMP:20260421T015402
CREATED:20250222T140650Z
LAST-MODIFIED:20250319T001035Z
UID:2363-1743532200-1743539400@repairedesjoueurs.fr
SUMMARY:Mystic Vale
DESCRIPTION:Une malédiction s’est emparée de la Vallée de la Vie. Tout les clans de druides sont là pour soigner la terre corrompue mais aussi pour s’approprier le plus de territoires.Dans Mystic Vale\, deux à quatre joueurs endossent le rôle de clans druidiques cherchant à lever la malédiction. Chaque tour\, vous jouez des cartes sur votre terrain pour gagner de puissants avancements et d’utiles cartes de vallée. Utilisez votre pouvoir sagement\, ou le déclin mettra fin à votre tour prématurément. Marquez le plus de points de victoire pour remporter la partie. \n\n\n\n\nDifficulté : ⭐️⭐️\n\n\n\nIl n'y a plus de places disponibles pour ce jeu.
URL:https://repairedesjoueurs.fr/jeux/mystic-vale/
LOCATION:Salle de l’Oasis\, 95 rue du Docteur Bailly\, Beaurepaire\, 38270\, France
CATEGORIES:Amateur
ATTACH;FMTTYPE=image/png:https://repairedesjoueurs.fr/wp-content/uploads/2025/02/image-23-e1740233141851.png
END:VEVENT
BEGIN:VEVENT
DTSTART;TZID=Europe/Paris:20250401T183000
DTEND;TZID=Europe/Paris:20250401T203000
DTSTAMP:20260421T015402
CREATED:20250311T222301Z
LAST-MODIFIED:20250319T000001Z
UID:2374-1743532200-1743539400@repairedesjoueurs.fr
SUMMARY:Daybreak
DESCRIPTION:Daybreak est un jeu coopératif qui propose une vision résolument optimiste de notre futur proche dans laquelle vous construisez des technologies innovantes et améliorerez la résilience de votre population pour faire face au réchauffement climatique. \n\n\n\n\nDifficulté ⭐️⭐️⭐️\n\n\n\nIl n'y a plus de places disponibles pour ce jeu.
URL:https://repairedesjoueurs.fr/jeux/daybreak/
LOCATION:Salle de l’Oasis\, 95 rue du Docteur Bailly\, Beaurepaire\, 38270\, France
ATTACH;FMTTYPE=image/png:https://repairedesjoueurs.fr/wp-content/uploads/2025/03/image.png
END:VEVENT
BEGIN:VEVENT
DTSTART;TZID=Europe/Paris:20250408T183000
DTEND;TZID=Europe/Paris:20250408T203000
DTSTAMP:20260421T015402
CREATED:20241103T214143Z
LAST-MODIFIED:20250404T171220Z
UID:1981-1744137000-1744144200@repairedesjoueurs.fr
SUMMARY:The Island
DESCRIPTION:Survive The Island\, un jeu d’aventure et de survie sur une île paradisiaque. Les joueurs incarnent des explorateurs en mission sur une île dangereuse sur laquelle se trouve de fabuleux trésors. Mais un volcan\, jusqu’alors endormi\, entre subitement en éruption. La terre se met à trembler et l’île s’enfonce peu à peu dans la mer.  \n\n\n\n\nDifficulté : ⭐️⭐️\n\n\n\nIl n'y a plus de places disponibles pour ce jeu.
URL:https://repairedesjoueurs.fr/jeux/the-island/
LOCATION:Salle de l’Oasis\, 95 rue du Docteur Bailly\, Beaurepaire\, 38270\, France
CATEGORIES:Amateur
ATTACH;FMTTYPE=image/jpeg:https://repairedesjoueurs.fr/wp-content/uploads/2024/11/image-7-e1732565990641.jpeg
END:VEVENT
BEGIN:VEVENT
DTSTART;TZID=Europe/Paris:20250408T183000
DTEND;TZID=Europe/Paris:20250408T213000
DTSTAMP:20260421T015402
CREATED:20250219T173108Z
LAST-MODIFIED:20250408T141745Z
UID:2345-1744137000-1744147800@repairedesjoueurs.fr
SUMMARY:Les Châteaux de Bourgogne
DESCRIPTION:Castles of Burgundy est un jeu de société légendaire créé par Stefan Feld. Dans ce jeu\, vous jouerez le rôle d’un aristocrate contrôlant une petite principauté. Vous essayez de construire une colonie avec de puissants châteaux\, de pratiquer le commerce\, d’exploiter des mines d’argent et d’utiliser les connaissances des voyageurs. \n\n\n\n\nDifficulté : ⭐️⭐️⭐️\n\n\n\nIl n'y a plus de places disponibles pour ce jeu.
URL:https://repairedesjoueurs.fr/jeux/les-chateaux-de-bourgogne/
LOCATION:Salle de l’Oasis\, 95 rue du Docteur Bailly\, Beaurepaire\, 38270\, France
CATEGORIES:Initié
ATTACH;FMTTYPE=image/jpeg:https://repairedesjoueurs.fr/wp-content/uploads/2025/02/image-11.jpeg
END:VEVENT
BEGIN:VEVENT
DTSTART;TZID=Europe/Paris:20250415T183000
DTEND;TZID=Europe/Paris:20250415T203000
DTSTAMP:20260421T015402
CREATED:20231203T220802Z
LAST-MODIFIED:20250412T233424Z
UID:896-1744741800-1744749000@repairedesjoueurs.fr
SUMMARY:Room 25
DESCRIPTION:Dans ce jeu semi-coopératif futuriste\, vous jouez votre vie\, pris au piège dans un complexe de 25 salles aux effets souvent indésirables ! Coopérez les uns avec les autres pour trouver la sortie : la Room 25. Soyez prudents\, parmi vous se cache peut-être un gardien\, qui n’hésitera pas à employer les méthodes les plus extrêmes pour vous empêcher de sortir.  \n\n\n\n\nDifficulté : ⭐️\n\n\n\nIl n'y a plus de places disponibles pour ce jeu.
URL:https://repairedesjoueurs.fr/jeux/room-25/
LOCATION:Salle de l’Oasis\, 95 rue du Docteur Bailly\, Beaurepaire\, 38270\, France
CATEGORIES:Amateur,Ambiance
END:VEVENT
BEGIN:VEVENT
DTSTART;TZID=Europe/Paris:20250415T183000
DTEND;TZID=Europe/Paris:20250415T203000
DTSTAMP:20260421T015402
CREATED:20250219T162548Z
LAST-MODIFIED:20250415T105229Z
UID:2294-1744741800-1744749000@repairedesjoueurs.fr
SUMMARY:Terrorscape
DESCRIPTION:Terrorscape est un jeu d’horreur immersif asymétrique en équipe. Vous pouvez jouer le rôle des survivants ou du tueur. Les survivants coopèrent pour s’échapper du manoir en cherchant 5 clés ou en réparant la radio pour passer un appel d’urgence. Le tueur est seul contre les survivants. Le tueur doit localiser les survivants par leur bruit ou par leurs compétences et décider comment les éliminer. \n\n\n\n\nDifficulté : ⭐️⭐️⭐️\n\n\n\nIl n'y a plus de places disponibles pour ce jeu.
URL:https://repairedesjoueurs.fr/jeux/terrorscape/
LOCATION:Salle de l’Oasis\, 95 rue du Docteur Bailly\, Beaurepaire\, 38270\, France
CATEGORIES:Amateur
ATTACH;FMTTYPE=image/png:https://repairedesjoueurs.fr/wp-content/uploads/2025/02/image-8.png
END:VEVENT
BEGIN:VEVENT
DTSTART;TZID=Europe/Paris:20250415T183000
DTEND;TZID=Europe/Paris:20250415T210000
DTSTAMP:20260421T015402
CREATED:20241228T215757Z
LAST-MODIFIED:20250401T183123Z
UID:2196-1744741800-1744750800@repairedesjoueurs.fr
SUMMARY:Caylus 1303
DESCRIPTION:Découvrez la nouvelle version de Caylus\, le grand classique du jeu de société\, sorti en 2005. Les parties sont fluides et rapides\, et combinent des règles simples avec une grande rejouabilité. Les joueurs incarnent des maîtres de guilde. En construisant le château de Caylus et en développant la ville qui s’étend à ses pieds\, ils gagnent des Points de Prestige. Celui qui en aura le plus au terme des 9 tours de jeu remportera la partie.  \n\n\n\n\nDifficulté : ⭐️⭐️⭐️⭐️\n\n\n\nIl n'y a plus de places disponibles pour ce jeu.
URL:https://repairedesjoueurs.fr/jeux/caylus-1303/
LOCATION:Salle de l’Oasis\, 95 rue du Docteur Bailly\, Beaurepaire\, 38270\, France
CATEGORIES:Expert
ATTACH;FMTTYPE=image/webp:https://repairedesjoueurs.fr/wp-content/uploads/2024/12/pic4978911.jpg.webp
END:VEVENT
BEGIN:VEVENT
DTSTART;TZID=Europe/Paris:20250415T183000
DTEND;TZID=Europe/Paris:20250415T210000
DTSTAMP:20260421T015402
CREATED:20250219T163539Z
LAST-MODIFIED:20250411T095404Z
UID:2309-1744741800-1744750800@repairedesjoueurs.fr
SUMMARY:Les Tavernes de la Vallée profonde
DESCRIPTION:Le village de Tiefenthal attire les citoyens de la région grâce à ses rue commerçantes aux bistrots populaires… À la tête de votre taverne\, donnez-vous les moyens d’attirer de nouveaux clients fortunés. \n\n\n\n\nDifficulté : ⭐️⭐️⭐️\n\n\n\nIl n'y a plus de places disponibles pour ce jeu.
URL:https://repairedesjoueurs.fr/jeux/les-tavernes-de-la-vallee-profonde/
LOCATION:Salle de l’Oasis\, 95 rue du Docteur Bailly\, Beaurepaire\, 38270\, France
CATEGORIES:Initié
ATTACH;FMTTYPE=image/png:https://repairedesjoueurs.fr/wp-content/uploads/2025/02/image-11.png
END:VEVENT
BEGIN:VEVENT
DTSTART;TZID=Europe/Paris:20250422T183000
DTEND;TZID=Europe/Paris:20250422T203000
DTSTAMP:20260421T015402
CREATED:20250219T161103Z
LAST-MODIFIED:20250410T184530Z
UID:2283-1745346600-1745353800@repairedesjoueurs.fr
SUMMARY:Meadow
DESCRIPTION:Dans le jeu Meadow\, vous incarnez des promeneurs partis découvrir les secrets de la nature et observer la faune et la flore locales. Mus par votre passion\, votre curiosité insatiable et votre désir de découvrir les mystères de la nature\, vous souhaitez tous être nommés « meilleur observateur ». \n\n\n\n\nDifficulté : ⭐️\n\n\n\nIl n'y a plus de places disponibles pour ce jeu.
URL:https://repairedesjoueurs.fr/jeux/meadow/
LOCATION:Salle de l’Oasis\, 95 rue du Docteur Bailly\, Beaurepaire\, 38270\, France
CATEGORIES:Amateur
ATTACH;FMTTYPE=image/png:https://repairedesjoueurs.fr/wp-content/uploads/2025/02/image-4.png
END:VEVENT
BEGIN:VEVENT
DTSTART;TZID=Europe/Paris:20250429T183000
DTEND;TZID=Europe/Paris:20250429T203000
DTSTAMP:20260421T015402
CREATED:20250210T132146Z
LAST-MODIFIED:20250425T172400Z
UID:2235-1745951400-1745958600@repairedesjoueurs.fr
SUMMARY:Soirée sans programme !
DESCRIPTION:Soirée jeux sans inscription et sans programme \n\n\n\n(Re)découvrez les jeux de l’association\, mis à disposition dans la salle de l’Oasis.  \n\n\n\nVous pouvez également amener vos jeux pour proposer des parties aux autres adhérents !
URL:https://repairedesjoueurs.fr/jeux/soiree-sans-programme/
LOCATION:Salle de l’Oasis\, 95 rue du Docteur Bailly\, Beaurepaire\, 38270\, France
ATTACH;FMTTYPE=image/jpeg:https://repairedesjoueurs.fr/wp-content/uploads/2024/10/7ca618d4-eafc-46bc-af62-6e50a7ac7cfa.jpg
END:VEVENT
END:VCALENDAR