BEGIN:VCALENDAR
VERSION:2.0
PRODID:-//Repaire des joueurs - ECPv6.15.20//NONSGML v1.0//EN
CALSCALE:GREGORIAN
METHOD:PUBLISH
X-WR-CALNAME:Repaire des joueurs
X-ORIGINAL-URL:https://repairedesjoueurs.fr
X-WR-CALDESC:Évènements pour Repaire des joueurs
REFRESH-INTERVAL;VALUE=DURATION:PT1H
X-Robots-Tag:noindex
X-PUBLISHED-TTL:PT1H
BEGIN:VTIMEZONE
TZID:Europe/Paris
BEGIN:DAYLIGHT
TZOFFSETFROM:+0100
TZOFFSETTO:+0200
TZNAME:CEST
DTSTART:20240331T010000
END:DAYLIGHT
BEGIN:STANDARD
TZOFFSETFROM:+0200
TZOFFSETTO:+0100
TZNAME:CET
DTSTART:20241027T010000
END:STANDARD
BEGIN:DAYLIGHT
TZOFFSETFROM:+0100
TZOFFSETTO:+0200
TZNAME:CEST
DTSTART:20250330T010000
END:DAYLIGHT
BEGIN:STANDARD
TZOFFSETFROM:+0200
TZOFFSETTO:+0100
TZNAME:CET
DTSTART:20251026T010000
END:STANDARD
BEGIN:DAYLIGHT
TZOFFSETFROM:+0100
TZOFFSETTO:+0200
TZNAME:CEST
DTSTART:20260329T010000
END:DAYLIGHT
BEGIN:STANDARD
TZOFFSETFROM:+0200
TZOFFSETTO:+0100
TZNAME:CET
DTSTART:20261025T010000
END:STANDARD
END:VTIMEZONE
BEGIN:VEVENT
DTSTART;TZID=Europe/Paris:20250829T183000
DTEND;TZID=Europe/Paris:20250829T230000
DTSTAMP:20260420T191755
CREATED:20240729T103602Z
LAST-MODIFIED:20250628T154547Z
UID:1691-1756492200-1756508400@repairedesjoueurs.fr
SUMMARY:Première soirée du vendredi de la saison !
DESCRIPTION:Soirée inaugurale de la saison 2025-2026 de l’Association Repaire des Joueurs !  \n\n\n\nVenez (re)découvrir notre association lors de la première session de l’année ! Pas besoin de s’inscrire à l’avance\, les tables seront « ouvertes » et vous pourrez amener vos jeux préférés afin de les partager avec les autres membres. \n\n\n\nSéance « jeux libres » sans programmation et sans inscription. \n\n\n\nTous les derniers vendredis du mois.
URL:https://repairedesjoueurs.fr/jeux/premiere-soiree-de-la-saison/
LOCATION:Salle de l’Oasis\, 95 rue du Docteur Bailly\, Beaurepaire\, 38270\, France
ATTACH;FMTTYPE=image/jpeg:https://repairedesjoueurs.fr/wp-content/uploads/2024/07/5982e91c-4cc5-fd70-b1ea-cd02fd33b23e.jpeg
END:VEVENT
END:VCALENDAR