BEGIN:VCALENDAR
VERSION:2.0
PRODID:-//Repaire des joueurs - ECPv6.15.20//NONSGML v1.0//EN
CALSCALE:GREGORIAN
METHOD:PUBLISH
X-ORIGINAL-URL:https://repairedesjoueurs.fr
X-WR-CALDESC:Évènements pour Repaire des joueurs
REFRESH-INTERVAL;VALUE=DURATION:PT1H
X-Robots-Tag:noindex
X-PUBLISHED-TTL:PT1H
BEGIN:VTIMEZONE
TZID:Europe/Paris
BEGIN:DAYLIGHT
TZOFFSETFROM:+0100
TZOFFSETTO:+0200
TZNAME:CEST
DTSTART:20240331T010000
END:DAYLIGHT
BEGIN:STANDARD
TZOFFSETFROM:+0200
TZOFFSETTO:+0100
TZNAME:CET
DTSTART:20241027T010000
END:STANDARD
BEGIN:DAYLIGHT
TZOFFSETFROM:+0100
TZOFFSETTO:+0200
TZNAME:CEST
DTSTART:20250330T010000
END:DAYLIGHT
BEGIN:STANDARD
TZOFFSETFROM:+0200
TZOFFSETTO:+0100
TZNAME:CET
DTSTART:20251026T010000
END:STANDARD
BEGIN:DAYLIGHT
TZOFFSETFROM:+0100
TZOFFSETTO:+0200
TZNAME:CEST
DTSTART:20260329T010000
END:DAYLIGHT
BEGIN:STANDARD
TZOFFSETFROM:+0200
TZOFFSETTO:+0100
TZNAME:CET
DTSTART:20261025T010000
END:STANDARD
END:VTIMEZONE
BEGIN:VEVENT
DTSTART;TZID=Europe/Paris:20250902T183000
DTEND;TZID=Europe/Paris:20250902T203000
DTSTAMP:20260420T174935
CREATED:20231203T224713Z
LAST-MODIFIED:20250902T103235Z
UID:926-1756837800-1756845000@repairedesjoueurs.fr
SUMMARY:Hidden Leaders 🌶️
DESCRIPTION:Hidden Leaders est un jeu de cartes de stratégie rapide et léger avec une interaction directe entre les joueurs. Dans Hidden Leaders\, vous jouez le rôle d’un des six chefs secrets\, chacun d’entre eux étant allié à deux des quatre factions/couleurs. En jouant des héros dans votre tableau\, ouvertement ou secrètement\, vous influencez l’issue du conflit. \n\n\nIl n'y a plus de places disponibles pour ce jeu.
URL:https://repairedesjoueurs.fr/jeux/hidden-leaders/
LOCATION:Salle de l’Oasis\, 95 rue du Docteur Bailly\, Beaurepaire\, 38270\, France
CATEGORIES:Amateur
ATTACH;FMTTYPE=image/png:https://repairedesjoueurs.fr/wp-content/uploads/2023/12/image-12.png
END:VEVENT
BEGIN:VEVENT
DTSTART;TZID=Europe/Paris:20250902T183000
DTEND;TZID=Europe/Paris:20250902T203000
DTSTAMP:20260420T174935
CREATED:20241228T214116Z
LAST-MODIFIED:20250902T111733Z
UID:2177-1756837800-1756845000@repairedesjoueurs.fr
SUMMARY:Clank! Catacombes 🌶️🌶️
DESCRIPTION:Clank! Catacombes est une aventure autonome dans la gamme Clank! Parviendrez-vous à échapper au dragon et à amasser un plus gros butin que celui de vos adversaires ? Chaque voyage dans les catacombes est unique\, car vous posez des tuiles pour créer le donjon. Vous pouvez jouer en utilisant uniquement le tout nouveau Dungeon Deck\, ou inclure des cartes des précédentes extensions de CLANK ! \n\n\n\n4 joueurs \n\n\nConnectez-vous pour vous inscrire \n				Identifiant ou adresse e-mail\n				\n			 \n				Mot de passe\n				\n			  Se souvenir de moi
URL:https://repairedesjoueurs.fr/jeux/clank-catacombes/
LOCATION:Salle de l’Oasis\, 95 rue du Docteur Bailly\, Beaurepaire\, 38270\, France
CATEGORIES:Initié
ATTACH;FMTTYPE=image/webp:https://repairedesjoueurs.fr/wp-content/uploads/2024/12/pic6937913.jpg.webp
END:VEVENT
BEGIN:VEVENT
DTSTART;TZID=Europe/Paris:20250902T183000
DTEND;TZID=Europe/Paris:20250902T203000
DTSTAMP:20260420T174935
CREATED:20250409T181239Z
LAST-MODIFIED:20250901T164537Z
UID:2391-1756837800-1756845000@repairedesjoueurs.fr
SUMMARY:Inori 🌶️🌶️
DESCRIPTION:Dans la vallée d’Inori\, les villages sont construits sous un immense arbre sacré dans lequel vivent des esprits. Toute l’année\, les chefs des villages font des offrandes aux esprits et dressent des autels en espérant de devenir le Gardien du Grand Arbre pour l’année suivante. \n\n\n\n4 joueurs \n\n\nIl n'y a plus de places disponibles pour ce jeu.
URL:https://repairedesjoueurs.fr/jeux/inori/
LOCATION:Salle de l’Oasis\, 95 rue du Docteur Bailly\, Beaurepaire\, 38270\, France
CATEGORIES:Amateur
ATTACH;FMTTYPE=image/png:https://repairedesjoueurs.fr/wp-content/uploads/2025/04/image-2-e1744222100692.png
END:VEVENT
BEGIN:VEVENT
DTSTART;TZID=Europe/Paris:20250909T183000
DTEND;TZID=Europe/Paris:20250909T203000
DTSTAMP:20260420T174935
CREATED:20250831T145718Z
LAST-MODIFIED:20250906T000314Z
UID:2628-1757442600-1757449800@repairedesjoueurs.fr
SUMMARY:Extinction 🌶️🌶️
DESCRIPTION:Un thème engagé sur la préservation des animaux et de l’environnement. \n\n\n\nLa marche du progrès de l’humanité menace la survie de nombreuses espèces. A vous et à votre équipe de les sauver ! Travaillez avec vos collègues écologistes pour sauver les tigres et les loutres de mer de l’extinction. \n\n\nIl n'y a plus de places disponibles pour ce jeu.
URL:https://repairedesjoueurs.fr/jeux/extinction/
LOCATION:Salle de l’Oasis\, 95 rue du Docteur Bailly\, Beaurepaire\, 38270\, France
CATEGORIES:Initié
ATTACH;FMTTYPE=image/png:https://repairedesjoueurs.fr/wp-content/uploads/2025/08/image-2.png
END:VEVENT
BEGIN:VEVENT
DTSTART;TZID=Europe/Paris:20250913T090000
DTEND;TZID=Europe/Paris:20250913T130000
DTSTAMP:20260420T174935
CREATED:20240722T144507Z
LAST-MODIFIED:20250904T024149Z
UID:1668-1757754000-1757768400@repairedesjoueurs.fr
SUMMARY:Forum des Associations à Beaurepaire
DESCRIPTION:Retrouvez nous au Forum des Association le samedi 13 septembre 2025 de 9h00 à 13h00 à la Salle Polyvalente de Beaurepaire (38270). \n\n\n\nLe Repaire des Joueurs sera présent pour vous faire découvrir l’association\, nos différents évènements et notre programme de la rentrée ! \n\n\n\nNous vous attendons nombreux !
URL:https://repairedesjoueurs.fr/jeux/forum-des-associations-a-beaurepaire/
LOCATION:Salle Polyvalente de Beaurepaire\, Chemin des Sauzays\, Beaurepaire\, 38270
ATTACH;FMTTYPE=image/jpeg:https://repairedesjoueurs.fr/wp-content/uploads/2024/07/image.jpeg
END:VEVENT
BEGIN:VEVENT
DTSTART;TZID=Europe/Paris:20250916T183000
DTEND;TZID=Europe/Paris:20250916T210000
DTSTAMP:20260420T174935
CREATED:20231203T225206Z
LAST-MODIFIED:20250906T130534Z
UID:931-1758047400-1758056400@repairedesjoueurs.fr
SUMMARY:Wingspan 🌶️🌶️
DESCRIPTION:Wingspan est un jeu de collection dans lequel les joueurs incarnent des amoureux d’oiseaux\, chercheurs\, observateurs\, ornithologues ou collectionneurs\, ayant pour objectif d’aménager la plus belle des volières.  \n\n\nIl n'y a plus de places disponibles pour ce jeu.
URL:https://repairedesjoueurs.fr/jeux/wingspan/
LOCATION:Salle de l’Oasis\, 95 rue du Docteur Bailly\, Beaurepaire\, 38270\, France
CATEGORIES:Initié
ATTACH;FMTTYPE=image/png:https://repairedesjoueurs.fr/wp-content/uploads/2023/12/image.png
END:VEVENT
BEGIN:VEVENT
DTSTART;TZID=Europe/Paris:20250916T183000
DTEND;TZID=Europe/Paris:20250916T210000
DTSTAMP:20260420T174935
CREATED:20250906T130948Z
LAST-MODIFIED:20250906T130949Z
UID:2688-1758047400-1758056400@repairedesjoueurs.fr
SUMMARY:A la recherche des espèces disparues 🌶️🌶️🌶️
DESCRIPTION:Dans A la Recherche des Espèces Disparues\, tentez de débusquer le premier\, une des espèces animales disparues. Dans ce jeu de déduction\, vous devrez localiser ces espèces perdues et les remettre sur la carte ! \n\n\nIl n'y a plus de places disponibles pour ce jeu.
URL:https://repairedesjoueurs.fr/jeux/a-la-recherche-des-especes-disparues-%f0%9f%8c%b6%ef%b8%8f%f0%9f%8c%b6%ef%b8%8f%f0%9f%8c%b6%ef%b8%8f/
LOCATION:Salle de l’Oasis\, 95 rue du Docteur Bailly\, Beaurepaire\, 38270\, France
CATEGORIES:Expert
ATTACH;FMTTYPE=image/jpeg:https://repairedesjoueurs.fr/wp-content/uploads/2025/08/image-2.jpeg
END:VEVENT
BEGIN:VEVENT
DTSTART;TZID=Europe/Paris:20250923T183000
DTEND;TZID=Europe/Paris:20250923T210000
DTSTAMP:20260420T174935
CREATED:20250916T204347Z
LAST-MODIFIED:20250916T204442Z
UID:2761-1758652200-1758661200@repairedesjoueurs.fr
SUMMARY:Earth 🌶️🌶️
DESCRIPTION:Earth est un jeu de construction de moteur dans lequel les joueurs ont pour objectif de créer des écosystèmes autosuffisants. Earth est un jeu aux règles simples\, mais offrant de multiples possibilités stratégiques. \n\n\nIl n'y a plus de places disponibles pour ce jeu.
URL:https://repairedesjoueurs.fr/jeux/earth/
LOCATION:Salle de l’Oasis\, 95 rue du Docteur Bailly\, Beaurepaire\, 38270\, France
CATEGORIES:Initié
ATTACH;FMTTYPE=image/png:https://repairedesjoueurs.fr/wp-content/uploads/2025/09/image-4.png
END:VEVENT
BEGIN:VEVENT
DTSTART;TZID=Europe/Paris:20250923T183000
DTEND;TZID=Europe/Paris:20250923T213000
DTSTAMP:20260420T174935
CREATED:20250909T212005Z
LAST-MODIFIED:20250909T212006Z
UID:2719-1758652200-1758663000@repairedesjoueurs.fr
SUMMARY:CO2 : Seconde chance 🌶️🌶️🌶️
DESCRIPTION:CO₂ : Second Chance révise et enrichit le jeu compétitif original CO2 publié en 2012 et inclut également un tout nouveau jeu coopératif\, dans lequel les joueurs doivent collaborer pour sauver le monde\, perdant des points de victoire à chaque tour où ils n’atteignent pas leurs objectifs.  \n\n\nIl n'y a plus de places disponibles pour ce jeu.
URL:https://repairedesjoueurs.fr/jeux/co2-seconde-chance-%f0%9f%8c%b6%ef%b8%8f%f0%9f%8c%b6%ef%b8%8f%f0%9f%8c%b6%ef%b8%8f/
LOCATION:Salle de l’Oasis\, 95 rue du Docteur Bailly\, Beaurepaire\, 38270\, France
CATEGORIES:Expert
ATTACH;FMTTYPE=image/png:https://repairedesjoueurs.fr/wp-content/uploads/2025/09/image-6.png
END:VEVENT
BEGIN:VEVENT
DTSTART;TZID=Europe/Paris:20250930T183000
DTEND;TZID=Europe/Paris:20250930T203000
DTSTAMP:20260420T174935
CREATED:20250505T095144Z
LAST-MODIFIED:20250915T162155Z
UID:2105-1759257000-1759264200@repairedesjoueurs.fr
SUMMARY:Five Tribes 🌶️🌶️
DESCRIPTION:Dans Five Tribes\, votre caravane traverse le pays des 1001 nuits et arrive au légendaire sultanat de Naqala. Five Tribes s’appuie sur une longue tradition de jeux de style allemand qui mettent en vedette des meeples en bois. Ici\, dans une tournure unique sur le genre désormais standard du « placement ouvrier »\, le jeu commence avec les pions déjà en place – et les joueurs doivent les manœuvrer intelligemment sur les villages\, les marchés\, les oasis et les lieux sacrés qui composent Naqala. \n\n\nIl n'y a plus de places disponibles pour ce jeu.
URL:https://repairedesjoueurs.fr/jeux/five-tribes/
LOCATION:Salle de l’Oasis\, 95 rue du Docteur Bailly\, Beaurepaire\, 38270\, France
CATEGORIES:Initié
ATTACH;FMTTYPE=image/jpeg:https://repairedesjoueurs.fr/wp-content/uploads/2024/12/pic2055255_large.jpg
END:VEVENT
BEGIN:VEVENT
DTSTART;TZID=Europe/Paris:20250930T183000
DTEND;TZID=Europe/Paris:20250930T203000
DTSTAMP:20260420T174935
CREATED:20250910T204202Z
LAST-MODIFIED:20250920T191902Z
UID:2737-1759257000-1759264200@repairedesjoueurs.fr
SUMMARY:Bunny Kingdom 🌶️
DESCRIPTION:Bunny Kingdom est un jeu de draft et de placement qui se joue en 4 manches. Lors de chaque manche\, les joueurs vont étendre leurs fiefs\, augmenter leur Puissance et leur Richesse en construisant des Cités et en exploitant de nouvelles Ressources. Choisissez vos actions de chaque tour parmi les cartes que vous avez en main\, avant de passer celles que vous ne jouez pas à vos adversaires. \n\n\nIl n'y a plus de places disponibles pour ce jeu.
URL:https://repairedesjoueurs.fr/jeux/bunny-kingdom/
LOCATION:Salle de l’Oasis\, 95 rue du Docteur Bailly\, Beaurepaire\, 38270\, France
CATEGORIES:Amateur
ATTACH;FMTTYPE=image/jpeg:https://repairedesjoueurs.fr/wp-content/uploads/2025/08/image.jpeg
END:VEVENT
BEGIN:VEVENT
DTSTART;TZID=Europe/Paris:20250930T183000
DTEND;TZID=Europe/Paris:20250930T210000
DTSTAMP:20260420T174935
CREATED:20250914T093248Z
LAST-MODIFIED:20250914T221611Z
UID:2750-1759257000-1759266000@repairedesjoueurs.fr
SUMMARY:Gigawatt 🌶️🌶️
DESCRIPTION:L’Europe de la fin du XXe siècle sert de toile de fond au jeu. Vous serez en concurrence avec les cinq other régions européennes pour être la première à produire de l’électricité sans émission de gaz à effet de serre et à fermer ces centrales au charbon et au gaz.  \n\n\nIl n'y a plus de places disponibles pour ce jeu.
URL:https://repairedesjoueurs.fr/jeux/gigawatt/
LOCATION:Salle de l’Oasis\, 95 rue du Docteur Bailly\, Beaurepaire\, 38270\, France
CATEGORIES:Expert
ATTACH;FMTTYPE=image/png:https://repairedesjoueurs.fr/wp-content/uploads/2025/09/image-8.png
END:VEVENT
END:VCALENDAR